BEGIN:VCALENDAR
VERSION:2.0
PRODID:-//Carsten Schütte - ECPv6.15.11//NONSGML v1.0//EN
CALSCALE:GREGORIAN
METHOD:PUBLISH
X-ORIGINAL-URL:https://xn--carsten-schtte-qsb.de
X-WR-CALDESC:Veranstaltungen für Carsten Schütte
REFRESH-INTERVAL;VALUE=DURATION:PT1H
X-Robots-Tag:noindex
X-PUBLISHED-TTL:PT1H
BEGIN:VTIMEZONE
TZID:Europe/Berlin
BEGIN:DAYLIGHT
TZOFFSETFROM:+0100
TZOFFSETTO:+0200
TZNAME:CEST
DTSTART:20240331T010000
END:DAYLIGHT
BEGIN:STANDARD
TZOFFSETFROM:+0200
TZOFFSETTO:+0100
TZNAME:CET
DTSTART:20241027T010000
END:STANDARD
BEGIN:DAYLIGHT
TZOFFSETFROM:+0100
TZOFFSETTO:+0200
TZNAME:CEST
DTSTART:20250330T010000
END:DAYLIGHT
BEGIN:STANDARD
TZOFFSETFROM:+0200
TZOFFSETTO:+0100
TZNAME:CET
DTSTART:20251026T010000
END:STANDARD
BEGIN:DAYLIGHT
TZOFFSETFROM:+0100
TZOFFSETTO:+0200
TZNAME:CEST
DTSTART:20260329T010000
END:DAYLIGHT
BEGIN:STANDARD
TZOFFSETFROM:+0200
TZOFFSETTO:+0100
TZNAME:CET
DTSTART:20261025T010000
END:STANDARD
END:VTIMEZONE
BEGIN:VEVENT
DTSTART;TZID=Europe/Berlin:20250401T180000
DTEND;TZID=Europe/Berlin:20250401T200000
DTSTAMP:20260422T064011
CREATED:20250203T133214Z
LAST-MODIFIED:20250203T133214Z
UID:954-1743530400-1743537600@xn--carsten-schtte-qsb.de
SUMMARY:Lesung im Rahmen einer Lesereise in Kooperation mit dem ADAC und AIDA - 01.04.2025 in Cottbus
DESCRIPTION:Im Rahmen einer Lesereise in Kooperation mit dem ADAC und AIDA  starte ich am 01.04.2025 in Cottbus samt der AIDA Showkabine mit spannenden Abend mit den AIDA-Krimis und Live-Talks mit wunderbaren Gäste.\n 
URL:https://xn--carsten-schtte-qsb.de/event/lesung-im-rahmen-einer-lesereise-in-kooperation-mit-dem-adac-und-aida-01-04-2025-in-cottbus/
LOCATION:ADAC – Geschäftsstelle Cottbus\, Spremberger Straße 5\, Cottbus\, 03046
ATTACH;FMTTYPE=image/png:https://xn--carsten-schtte-qsb.de/wp-content/uploads/CW_N.png
ORGANIZER;CN="ADAC Gesch%C3%A4ftsstelle Cottbus":MAILTO:adac-cottbus@bbr.adac.de
END:VEVENT
BEGIN:VEVENT
DTSTART;TZID=Europe/Berlin:20250402T180000
DTEND;TZID=Europe/Berlin:20250402T200000
DTSTAMP:20260422T064011
CREATED:20250203T134515Z
LAST-MODIFIED:20250203T134515Z
UID:964-1743616800-1743624000@xn--carsten-schtte-qsb.de
SUMMARY:Lesereise in Kooperation mit dem ADAC und AIDA  am 02.04.2025 in Frankfurt/Oder
DESCRIPTION:Im Rahmen einer Lesereise in Kooperation mit dem ADAC und AIDA  geht’s am 02.04.2025 nach Frankfurt/Oder mit einem spannenden Abend mit den AIDA-Krimis und Live-Talks mit wunderbaren Gäste.\n 
URL:https://xn--carsten-schtte-qsb.de/event/lesereise-in-kooperation-mit-dem-adac-und-aida-am-02-04-2025-in-frankfurt-oder/
LOCATION:ADAC Geschäftsstelle Frankfurt/Oder\, Logenstraße 8\, Frankfurt/Oder\, 15230
ATTACH;FMTTYPE=image/png:https://xn--carsten-schtte-qsb.de/wp-content/uploads/CW_N.png
ORGANIZER;CN="ADAC Gesch%C3%A4ftsstelle Frankfurt/Oder":MAILTO:adac-frankfurt-oder@bbr.adac.de
END:VEVENT
BEGIN:VEVENT
DTSTART;TZID=Europe/Berlin:20250403T180000
DTEND;TZID=Europe/Berlin:20250403T190000
DTSTAMP:20260422T064011
CREATED:20250203T134933Z
LAST-MODIFIED:20250203T134933Z
UID:968-1743703200-1743706800@xn--carsten-schtte-qsb.de
SUMMARY:Lesereise in Kooperation mit dem ADAC und AIDA  am 03.04.2025 in Wildau
DESCRIPTION:Im Rahmen einer Lesereise in Kooperation mit dem ADAC und AIDA  geht’s am 03.04.2025 nach Wildau.\n Ich verspreche Ihnen einen spannenden Abend mit den AIDA-Krimis und Live-Talks mit den wunderbaren Gäste.
URL:https://xn--carsten-schtte-qsb.de/event/lesereise-in-kooperation-mit-dem-adac-und-aida-am-03-04-2025-in-wildau/
LOCATION:ADAC Geschäftsstelle Wildau\, Chausseestraße 1\, Wildau\, 15745
ATTACH;FMTTYPE=image/png:https://xn--carsten-schtte-qsb.de/wp-content/uploads/CW_N.png
ORGANIZER;CN="ADAC Gesch%C3%A4ftsstelle Wildau":MAILTO:adac-wildau@bbr.adac.de
END:VEVENT
BEGIN:VEVENT
DTSTART;VALUE=DATE:20250409
DTEND;VALUE=DATE:20250413
DTSTAMP:20260422T064011
CREATED:20241209T125652Z
LAST-MODIFIED:20241209T125715Z
UID:926-1744156800-1744502399@xn--carsten-schtte-qsb.de
SUMMARY:Die 'Criminale' vom 09. - 12.04.2025 in Schwetzingen
DESCRIPTION:Das jährliche Treffen der Autor*innen des Syndikats findet in Schwetzingen wieder mit einem hochkarätigem Programm statt.
URL:https://xn--carsten-schtte-qsb.de/event/criminale-findet-dieses-jahr-vom-09-12-04-2025-in-schwetzingen/
END:VEVENT
BEGIN:VEVENT
DTSTART;TZID=Europe/Berlin:20250415T180000
DTEND;TZID=Europe/Berlin:20250415T200000
DTSTAMP:20260422T064011
CREATED:20250203T135332Z
LAST-MODIFIED:20250203T135332Z
UID:972-1744740000-1744747200@xn--carsten-schtte-qsb.de
SUMMARY:Lesereise in Kooperation mit dem ADAC und AIDA am 15.04.2025 in Brandenburg
DESCRIPTION:Im Rahmen einer Lesereise in Kooperation mit dem ADAC und AIDA  geht’s am 15.04.2025 nach Brandenburg a.d. Havel.\n Ich verspreche Ihnen einen spannenden Abend mit den AIDA-Krimis und Live-Talks mit den wunderbaren Gäste.
URL:https://xn--carsten-schtte-qsb.de/event/lesereise-in-kooperation-mit-dem-adac-und-aida-am-15-04-2025-in-brandenburg/
LOCATION:ADAC Geschäftsstelle Brandenburg\, Katharinenkirchplatz 11\, Brandenburg a.d.Havel\, 14776
ATTACH;FMTTYPE=image/png:https://xn--carsten-schtte-qsb.de/wp-content/uploads/CW_N.png
ORGANIZER;CN="ADAC Gesch%C3%A4ftsstelle Brandenburg":MAILTO:adac-brandenburg@bbr-adac.de
END:VEVENT
BEGIN:VEVENT
DTSTART;TZID=Europe/Berlin:20250416T180000
DTEND;TZID=Europe/Berlin:20250416T200000
DTSTAMP:20260422T064011
CREATED:20250203T135758Z
LAST-MODIFIED:20250203T135758Z
UID:976-1744826400-1744833600@xn--carsten-schtte-qsb.de
SUMMARY:Lesereise in Kooperation mit dem ADAC und AIDA  am 16.04.2025 in Berlin-Wilmersdorf
DESCRIPTION:Im Rahmen einer Lesereise in Kooperation mit dem ADAC und AIDA  geht’s am 16.04.2025 nach Berlin-Wilmersdorf.\n Ich verspreche Ihnen einen spannenden Abend mit den AIDA-Krimis und Live-Talks mit den wunderbaren Gäste.
URL:https://xn--carsten-schtte-qsb.de/event/lesereise-in-kooperation-mit-dem-adac-und-aida-am-16-04-2025-in-berlin-wilmersdorf/
LOCATION:ADAC Geschäftsstelle Berlin Wilmersdorf\, Bundesallee 29/30\, Berlin\, 10717
ATTACH;FMTTYPE=image/png:https://xn--carsten-schtte-qsb.de/wp-content/uploads/CW_N.png
ORGANIZER;CN="ADAC Gesch%C3%A4ftsstelle Berlin-Wilmersdorf":MAILTO:rb.berlin@bbr.adac.de
END:VEVENT
BEGIN:VEVENT
DTSTART;TZID=Europe/Berlin:20250417T180000
DTEND;TZID=Europe/Berlin:20250417T200000
DTSTAMP:20260422T064011
CREATED:20250203T140546Z
LAST-MODIFIED:20250203T140546Z
UID:982-1744912800-1744920000@xn--carsten-schtte-qsb.de
SUMMARY:Lesereise in Kooperation mit dem ADAC und AIDA am 17.04.2025 in Potsdam
DESCRIPTION:Im Rahmen einer Lesereise in Kooperation mit dem ADAC und AIDA  geht’s am 17.04.2025 nach Potsdam.\n Ich verspreche Ihnen einen spannenden Abend mit den AIDA-Krimis und Live-Talks mit den wunderbaren Gästen.
URL:https://xn--carsten-schtte-qsb.de/event/lesereise-in-kooperation-mit-dem-adac-und-aida-am-17-04-2025-in-potsdam/
LOCATION:ADAC Geschäftsstelle Potsdam\, Fritz-Zubeil-Straße 95\, Potsdam\, 14482
ATTACH;FMTTYPE=image/png:https://xn--carsten-schtte-qsb.de/wp-content/uploads/CW_N.png
ORGANIZER;CN="ADAC Gesch%C3%A4ftsstelle Potsdam":MAILTO:adac-potsdam@bbr.adac.de
END:VEVENT
BEGIN:VEVENT
DTSTART;TZID=Europe/Berlin:20250422T180000
DTEND;TZID=Europe/Berlin:20250422T200000
DTSTAMP:20260422T064011
CREATED:20250203T140957Z
LAST-MODIFIED:20250203T140957Z
UID:987-1745344800-1745352000@xn--carsten-schtte-qsb.de
SUMMARY:Lesereise in Kooperation mit dem ADAC und AIDA am 22.04.2025 in Neuruppin
DESCRIPTION:Im Rahmen einer Lesereise in Kooperation mit dem ADAC und AIDA  geht’s am 22.04.2025 nach Neuruppin.\n Ich verspreche Ihnen einen spannenden Abend mit den AIDA-Krimis und Live-Talks mit den wunderbaren Gästen.
URL:https://xn--carsten-schtte-qsb.de/event/lesereise-in-kooperation-mit-dem-adac-und-aida-am-22-04-2025-in-neuruppin/
LOCATION:ADAC Geschäfsstelle Neuruppin\, Karl-Marx-Straße 40\, Neuruppin\, 16816
ATTACH;FMTTYPE=image/png:https://xn--carsten-schtte-qsb.de/wp-content/uploads/CW_N.png
ORGANIZER;CN="ADAC Gesch%C3%A4fsstelle Neuruppin":MAILTO:adac-neuruppin@bbr.adac.de
END:VEVENT
BEGIN:VEVENT
DTSTART;TZID=Europe/Berlin:20250423T180000
DTEND;TZID=Europe/Berlin:20250423T200000
DTSTAMP:20260422T064011
CREATED:20250203T141407Z
LAST-MODIFIED:20250203T141407Z
UID:992-1745431200-1745438400@xn--carsten-schtte-qsb.de
SUMMARY:Lesereise in Kooperation mit dem ADAC und AIDA am 23.04.2025 in Berlin-Mitte
DESCRIPTION:Im Rahmen einer Lesereise in Kooperation mit dem ADAC und AIDA  geht’s am 23.04.2025 nach Berlin-Mitte.\n Ich verspreche Ihnen einen spannenden Abend mit den AIDA-Krimis und Live-Talks mit den wunderbaren Gästen.
URL:https://xn--carsten-schtte-qsb.de/event/lesereise-in-kooperation-mit-dem-adac-und-aida-am-23-04-2025-in-berlin-mitte/
LOCATION:ADAC Geschäftsstelle Berlin-Mitte\, Alexanderstraße 1\, Berlin\, 10178
ATTACH;FMTTYPE=image/png:https://xn--carsten-schtte-qsb.de/wp-content/uploads/CW_N.png
ORGANIZER;CN="ADAC Gesch%C3%A4ftsstelle Berlin-Mitte":MAILTO:adac-mitte@bbr.adac.de
END:VEVENT
BEGIN:VEVENT
DTSTART;TZID=Europe/Berlin:20250424T180000
DTEND;TZID=Europe/Berlin:20250424T200000
DTSTAMP:20260422T064011
CREATED:20250203T141851Z
LAST-MODIFIED:20250203T141851Z
UID:996-1745517600-1745524800@xn--carsten-schtte-qsb.de
SUMMARY:Lesereise in Kooperation mit dem ADAC und AIDA am 24.04.2025 in Spandau
DESCRIPTION:Im Rahmen einer Lesereise in Kooperation mit dem ADAC und AIDA  geht’s am 24.04.2025 nach Spandau.\n Ich verspreche Ihnen einen spannenden Abend mit den AIDA-Krimis und Live-Talks mit den wunderbaren Gästen.
URL:https://xn--carsten-schtte-qsb.de/event/lesereise-in-kooperation-mit-dem-adac-und-aida-am-24-04-2025-in-spandau/
LOCATION:ADAC Geschäftsstelle Berlin-Spandau\, Carl-Schurz-Straße 14\, Berlin\, 13597
ATTACH;FMTTYPE=image/png:https://xn--carsten-schtte-qsb.de/wp-content/uploads/CW_N.png
ORGANIZER;CN="ADAC Gesch%C3%A4fsstelle Berlin-Spandau":MAILTO:adac-spandau@bbr.adac.de
END:VEVENT
BEGIN:VEVENT
DTSTART;TZID=Europe/Berlin:20250429T183000
DTEND;TZID=Europe/Berlin:20250429T203000
DTSTAMP:20260422T064011
CREATED:20250425T105347Z
LAST-MODIFIED:20250425T105347Z
UID:1016-1745951400-1745958600@xn--carsten-schtte-qsb.de
SUMMARY:Vorstellung der AIDA-Krimi-Reihe am 29.04.25 im FIRST Reisebüro Eichmann in Uelzen
DESCRIPTION:Am Mi.\, 29.04.25\, ab 18:30 Uhr\, freue ich mich auf einen AIDA-Crime Abend im FIRST Reisebüro Eichmann in Uelzen.\nSchaut gern vorbei\, ich freue mich auf euch!\n 
URL:https://xn--carsten-schtte-qsb.de/event/vorstellung-der-aida-krimi-reihe-am-29-04-25-im-first-reisebuero-eichmann-in-uelzen/
LOCATION:FIRST Reisebüro Eichmann\, Bahnhofstr. 31\, Uelzen
ATTACH;FMTTYPE=image/png:https://xn--carsten-schtte-qsb.de/wp-content/uploads/Bildschirmfoto-2025-04-25-um-12.46.31.png
ORGANIZER;CN="FIRST Reiseb%C3%BCro Eichmann":MAILTO:gruppen@eichmann-reisen.de
END:VEVENT
END:VCALENDAR