BEGIN:VCALENDAR
VERSION:2.0
PRODID:-//Carsten Schütte - ECPv6.15.11//NONSGML v1.0//EN
CALSCALE:GREGORIAN
METHOD:PUBLISH
X-WR-CALNAME:Carsten Schütte
X-ORIGINAL-URL:https://xn--carsten-schtte-qsb.de
X-WR-CALDESC:Veranstaltungen für Carsten Schütte
REFRESH-INTERVAL;VALUE=DURATION:PT1H
X-Robots-Tag:noindex
X-PUBLISHED-TTL:PT1H
BEGIN:VTIMEZONE
TZID:Europe/Berlin
BEGIN:DAYLIGHT
TZOFFSETFROM:+0100
TZOFFSETTO:+0200
TZNAME:CEST
DTSTART:20230326T010000
END:DAYLIGHT
BEGIN:STANDARD
TZOFFSETFROM:+0200
TZOFFSETTO:+0100
TZNAME:CET
DTSTART:20231029T010000
END:STANDARD
BEGIN:DAYLIGHT
TZOFFSETFROM:+0100
TZOFFSETTO:+0200
TZNAME:CEST
DTSTART:20240331T010000
END:DAYLIGHT
BEGIN:STANDARD
TZOFFSETFROM:+0200
TZOFFSETTO:+0100
TZNAME:CET
DTSTART:20241027T010000
END:STANDARD
BEGIN:DAYLIGHT
TZOFFSETFROM:+0100
TZOFFSETTO:+0200
TZNAME:CEST
DTSTART:20250330T010000
END:DAYLIGHT
BEGIN:STANDARD
TZOFFSETFROM:+0200
TZOFFSETTO:+0100
TZNAME:CET
DTSTART:20251026T010000
END:STANDARD
END:VTIMEZONE
BEGIN:VEVENT
DTSTART;TZID=Europe/Berlin:20241209T080000
DTEND;TZID=Europe/Berlin:20241209T170000
DTSTAMP:20260422T131513
CREATED:20241209T124657Z
LAST-MODIFIED:20241209T124657Z
UID:920-1733731200-1733763600@xn--carsten-schtte-qsb.de
SUMMARY:Lesereise "Kanarenblut" auf AIDAcosma vom 22. - 29.03.25 auf der Kanarentour
DESCRIPTION:Im März geht’s auf AIDAcosma in die Sonne auf die Kanarentour. \nRoute:  Gran Canaria – Madeira – Teneriffa – Fuerteventura – Lanzarote – Gran Canaria
URL:https://xn--carsten-schtte-qsb.de/event/lesereise-kanarenblut-auf-aidacosma-vom-22-29-03-25-auf-der-kanarentour/
ATTACH;FMTTYPE=image/png:https://xn--carsten-schtte-qsb.de/wp-content/uploads/Bildschirmfoto-2024-12-09-um-13.34.11.png
END:VEVENT
END:VCALENDAR