BEGIN:VCALENDAR
VERSION:2.0
PRODID:-//Carsten Schütte - ECPv6.15.11//NONSGML v1.0//EN
CALSCALE:GREGORIAN
METHOD:PUBLISH
X-ORIGINAL-URL:https://xn--carsten-schtte-qsb.de
X-WR-CALDESC:Veranstaltungen für Carsten Schütte
REFRESH-INTERVAL;VALUE=DURATION:PT1H
X-Robots-Tag:noindex
X-PUBLISHED-TTL:PT1H
BEGIN:VTIMEZONE
TZID:Europe/Berlin
BEGIN:DAYLIGHT
TZOFFSETFROM:+0100
TZOFFSETTO:+0200
TZNAME:CEST
DTSTART:20230326T010000
END:DAYLIGHT
BEGIN:STANDARD
TZOFFSETFROM:+0200
TZOFFSETTO:+0100
TZNAME:CET
DTSTART:20231029T010000
END:STANDARD
BEGIN:DAYLIGHT
TZOFFSETFROM:+0100
TZOFFSETTO:+0200
TZNAME:CEST
DTSTART:20240331T010000
END:DAYLIGHT
BEGIN:STANDARD
TZOFFSETFROM:+0200
TZOFFSETTO:+0100
TZNAME:CET
DTSTART:20241027T010000
END:STANDARD
BEGIN:DAYLIGHT
TZOFFSETFROM:+0100
TZOFFSETTO:+0200
TZNAME:CEST
DTSTART:20250330T010000
END:DAYLIGHT
BEGIN:STANDARD
TZOFFSETFROM:+0200
TZOFFSETTO:+0100
TZNAME:CET
DTSTART:20251026T010000
END:STANDARD
END:VTIMEZONE
BEGIN:VEVENT
DTSTART;TZID=Europe/Berlin:20240922T180000
DTEND;TZID=Europe/Berlin:20240922T210000
DTSTAMP:20260422T175215
CREATED:20240801T125543Z
LAST-MODIFIED:20240801T125543Z
UID:889-1727028000-1727038800@xn--carsten-schtte-qsb.de
SUMMARY:Crime Talk mit Lesung aus EisKALT ... zum Red Fridge Abend am 22.09.24 in Hannover-Linden
DESCRIPTION:Was ist denn ein „Red Fridge-Abend“? \nDer Journalist – Moderator – Coach und Mediator Marco Heuer hat zu Coronazeiten ein cooles Konzept entwickelt\, um mit seinen Gästen in privatem Rahmen in seinem Wohnzimmer zusammenzukommen. \nKünstler\, Musiker und nun auch ich stellen unsere Themen und in meinem Fall\, den neuen Roman „EisKALT – Wenn Kinder morden“ vor. Begleitend  sprechen wir über diese sensible Thematik und Hintergründe an sich und ich werde mich seinen Fragen sowie denen der Gäste stellen. \nSeid dabei und richtet eure Kartenwünsche über Insta an Marc_o_heuer. \nEs sind nur noch wenige Plätze frei!! \n  \n 
URL:https://xn--carsten-schtte-qsb.de/event/crime-talk-mit-lesung-aus-eiskalt-zum-red-fridge-abend-am-22-09-24-in-hannover-linden/
LOCATION:Hannover-Linden\, Velberstr.\, Velberstraße\, Hannover
ATTACH;FMTTYPE=image/png:https://xn--carsten-schtte-qsb.de/wp-content/uploads/Bildschirmfoto-2024-08-01-um-14.45.35.png
END:VEVENT
BEGIN:VEVENT
DTSTART;VALUE=DATE:20240928
DTEND;VALUE=DATE:20241006
DTSTAMP:20260422T175215
CREATED:20231103T125000Z
LAST-MODIFIED:20231103T125000Z
UID:828-1727481600-1728172799@xn--carsten-schtte-qsb.de
SUMMARY:Lesereise auf der Adria mit AIDAblu vom 28.09. - 05.10.24
DESCRIPTION:Ende September findet die „Opferbucht-Tour“ von Korfu über Triest – Zadar – Kotor – Dubrovnik – Bari – Korfu statt.\nIch liebe diese Route und freue mich!
URL:https://xn--carsten-schtte-qsb.de/event/lesereise-auf-der-adria-mit-aidablu-vom-28-09-05-10-24/
LOCATION:AIDAblu auf der Adriatour
ATTACH;FMTTYPE=image/png:https://xn--carsten-schtte-qsb.de/wp-content/uploads/2022/03/Bildschirmfoto-2022-04-04-um-21.22.35.png
END:VEVENT
END:VCALENDAR