BEGIN:VCALENDAR
VERSION:2.0
PRODID:-//Carsten Schütte - ECPv6.15.11//NONSGML v1.0//EN
CALSCALE:GREGORIAN
METHOD:PUBLISH
X-ORIGINAL-URL:https://xn--carsten-schtte-qsb.de
X-WR-CALDESC:Veranstaltungen für Carsten Schütte
REFRESH-INTERVAL;VALUE=DURATION:PT1H
X-Robots-Tag:noindex
X-PUBLISHED-TTL:PT1H
BEGIN:VTIMEZONE
TZID:Europe/Berlin
BEGIN:DAYLIGHT
TZOFFSETFROM:+0100
TZOFFSETTO:+0200
TZNAME:CEST
DTSTART:20230326T010000
END:DAYLIGHT
BEGIN:STANDARD
TZOFFSETFROM:+0200
TZOFFSETTO:+0100
TZNAME:CET
DTSTART:20231029T010000
END:STANDARD
BEGIN:DAYLIGHT
TZOFFSETFROM:+0100
TZOFFSETTO:+0200
TZNAME:CEST
DTSTART:20240331T010000
END:DAYLIGHT
BEGIN:STANDARD
TZOFFSETFROM:+0200
TZOFFSETTO:+0100
TZNAME:CET
DTSTART:20241027T010000
END:STANDARD
BEGIN:DAYLIGHT
TZOFFSETFROM:+0100
TZOFFSETTO:+0200
TZNAME:CEST
DTSTART:20250330T010000
END:DAYLIGHT
BEGIN:STANDARD
TZOFFSETFROM:+0200
TZOFFSETTO:+0100
TZNAME:CET
DTSTART:20251026T010000
END:STANDARD
END:VTIMEZONE
BEGIN:VEVENT
DTSTART;TZID=Europe/Berlin:20240505T160000
DTEND;TZID=Europe/Berlin:20240505T180000
DTSTAMP:20260423T001301
CREATED:20240423T125406Z
LAST-MODIFIED:20240423T125406Z
UID:868-1714924800-1714932000@xn--carsten-schtte-qsb.de
SUMMARY:Vorstellung von "EisKALT - Wenn Kinder morden" im Theater Novem am 05.05.24
DESCRIPTION:Ich freue mich auf eine besondere Lesung im wunderbaren (Keller-) Theater Novem am 05.05.24. \nMein neuer Roman „EisKALT – Wenn Kinder morden“ ist eine fiktive Handlung\, in die meine dienstlichen Erfahrungen eingeflossen sind. \nIch beschreibe die Entwicklung eines 13-jährigen Kindes aus einem „normalen“ Elternhaus\, das zum Mörder wird. Niemand hatte ihm das zugetraut. Niemand. \nAus einer facettenreichen\, multiperspektivischen Betrachtung wird eine familiäre und gesellschaftliche Ohnmacht deutlich. \nDie Entwicklung eines Kindes zum Mörder\, die Fassungslosigkeit der Tat an sich\, die Entdeckung\, die Ermittlungen\, der Umgang mit dem Täter\, den Tatbeteiligten\, den Familien von Opfer und Täter\, die Rolle von Polizei\, Justiz\, Schule\, Jugendämter\, Medien\, Politik…. sollen sensibilisieren und appellieren: \n„Schaut hin\, und zwar früh genug!“
URL:https://xn--carsten-schtte-qsb.de/event/vorstellung-von-eiskalt-wenn-kinder-morden-im-theater-novem-am-05-05-24/
LOCATION:(Keller-) Theater Novem\, Lange Laube 26\, Hannover\, 30159\, Deutschland
ATTACH;FMTTYPE=image/jpeg:https://xn--carsten-schtte-qsb.de/wp-content/uploads/Theater-Novem-scaled.jpg
ORGANIZER;CN="Kellertheater Novem":MAILTO:theater-novem@web.de
END:VEVENT
BEGIN:VEVENT
DTSTART;TZID=Europe/Berlin:20240508T193000
DTEND;TZID=Europe/Berlin:20240508T213000
DTSTAMP:20260423T001301
CREATED:20240423T124655Z
LAST-MODIFIED:20240423T124655Z
UID:865-1715196600-1715203800@xn--carsten-schtte-qsb.de
SUMMARY:Lesung & Live Talk im Upstalsboom Kühlungsborn am 08.05.24
DESCRIPTION:Den Abend vor Himmelfahrt stelle ich euch einen Überblick meiner bisherigen Krimis vor\, wobei „Im Fokus“ ja auch ein Kühlungsborn-Krimi ist\, der u.a. sogar im Upstalsboom und am Hafen spielt. \nAnschließend stelle ich mich euren Fragen für einen interaktiven „Live-Talk“ und freue mich auf einen wunderbaren und spannenden Abend bei und mit euch. \n 
URL:https://xn--carsten-schtte-qsb.de/event/lesung-live-talk-im-upstalsboom-kuehlungsborn-am-08-05-24/
LOCATION:Upstalsboom Hotelresidenz Kühlungsborn\, Ostseeallee 21\, Kühlungsborn\, 18225\, Deutschland
ATTACH;FMTTYPE=image/png:https://xn--carsten-schtte-qsb.de/wp-content/uploads/Bildschirmfoto-2024-04-23-um-14.45.43.png
END:VEVENT
BEGIN:VEVENT
DTSTART;VALUE=DATE:20240515
DTEND;VALUE=DATE:20240519
DTSTAMP:20260423T001301
CREATED:20231103T123110Z
LAST-MODIFIED:20231103T123110Z
UID:820-1715731200-1716076799@xn--carsten-schtte-qsb.de
SUMMARY:Die Criminale findet vom 15. - 18.05.2024 in Hannover statt!!!
DESCRIPTION:Nach dem pandemiebedingten Ausfall 2020 findet die Criminale 2024 wieder in Hannover statt!!\nDas SYNDIKAT veranstaltet jedes Jahr die CRIMINALE\, den größten Krimi-Branchentreff Europas. \nDie mehrtägige (Fach-)Tagung mit Podiumsdiskussionen\, Vorträgen und Seminaren bietet auch dem breiten Publikum mit vielen Lesungen an ungewöhnlichen Orten ein mörderisch spannendes Abendprogramm. \nHöhepunkt jeder CRIMINALE ist die Gala zur Verleihung des Glausers\, dem Preis der deutschsprachigen KrimiautorInnen\, die – wie die meisten Veranstaltungen – im Kulturzentrum Pavillon am Weiße-Kreuz-Platz statt.\nSichert euch frühestmöglich Karten!!\n  \n  \n  \nDetails
URL:https://xn--carsten-schtte-qsb.de/event/die-criminale-findet-vom-15-18-05-2024-in-hannover-statt/
LOCATION:Kulturzentrum Pavillon\, Lister Meile 4\, Hannover\, 30161
ATTACH;FMTTYPE=image/png:https://xn--carsten-schtte-qsb.de/wp-content/uploads/Bildschirmfoto-2023-11-03-um-13.20.31.png
END:VEVENT
BEGIN:VEVENT
DTSTART;TZID=Europe/Berlin:20240529T200000
DTEND;TZID=Europe/Berlin:20240529T220000
DTSTAMP:20260423T001301
CREATED:20240423T131215Z
LAST-MODIFIED:20240423T132130Z
UID:871-1717012800-1717020000@xn--carsten-schtte-qsb.de
SUMMARY:Lesung aus "EisKALT - Wenn Kinder morden" am 29.05.24 in der Neuen Schauburg in Burgdorf
DESCRIPTION:Mein neuer Roman „EisKALT – Wenn Kinder morden“ ist eine fiktive Handlung\, in die meine dienstlichen Erfahrungen eingeflossen sind. \nIch beschreibe die Entwicklung eines 13-jährigen Kindes aus einem „normalen“ Elternhaus\, das zum Mörder wird. Niemand hatte ihm das zugetraut. Niemand. \nAus einer facettenreichen\, multiperspektivischen Betrachtung wird eine familiäre und gesellschaftliche Ohnmacht deutlich. \nDie Entwicklung eines Kindes zum Mörder\, die Fassungslosigkeit der Tat an sich\, die Entdeckung\, die Ermittlungen\, der Umgang mit dem Täter\, den Tatbeteiligten\, den Familien von Opfer und Täter\, die Rolle von Polizei\, Justiz\, Schule\, Jugendämter\, Medien\, Politik…. sollen sensibilisieren und appellieren:“Schaut hin\, und zwar früh genug!“ \nIch freue mich\, dieses sensible Thema in der Neuen Schauburg in Burgdorf vorstellen zu dürfen und auf einen spannenden Abend. \n 
URL:https://xn--carsten-schtte-qsb.de/event/lesung-aus-eiskalt-wenn-kinder-morden-am-29-05-24-in-der-neuen-schauburg-in-burgdorf/
LOCATION:Neue Schauburg Burgdorf\, Feldstraße 2a\, Burgdorf\, 31303
ATTACH;FMTTYPE=image/jpeg:https://xn--carsten-schtte-qsb.de/wp-content/uploads/Neue-Schauburg-scaled.jpg
ORGANIZER;CN="Neue Schauburg Burgdorf":MAILTO:info@neueschauburg.de
END:VEVENT
END:VCALENDAR