BEGIN:VCALENDAR
VERSION:2.0
PRODID:-//Carsten Schütte - ECPv6.15.11//NONSGML v1.0//EN
CALSCALE:GREGORIAN
METHOD:PUBLISH
X-WR-CALNAME:Carsten Schütte
X-ORIGINAL-URL:https://xn--carsten-schtte-qsb.de
X-WR-CALDESC:Veranstaltungen für Carsten Schütte
REFRESH-INTERVAL;VALUE=DURATION:PT1H
X-Robots-Tag:noindex
X-PUBLISHED-TTL:PT1H
BEGIN:VTIMEZONE
TZID:Europe/Berlin
BEGIN:DAYLIGHT
TZOFFSETFROM:+0100
TZOFFSETTO:+0200
TZNAME:CEST
DTSTART:20230326T010000
END:DAYLIGHT
BEGIN:STANDARD
TZOFFSETFROM:+0200
TZOFFSETTO:+0100
TZNAME:CET
DTSTART:20231029T010000
END:STANDARD
BEGIN:DAYLIGHT
TZOFFSETFROM:+0100
TZOFFSETTO:+0200
TZNAME:CEST
DTSTART:20240331T010000
END:DAYLIGHT
BEGIN:STANDARD
TZOFFSETFROM:+0200
TZOFFSETTO:+0100
TZNAME:CET
DTSTART:20241027T010000
END:STANDARD
BEGIN:DAYLIGHT
TZOFFSETFROM:+0100
TZOFFSETTO:+0200
TZNAME:CEST
DTSTART:20250330T010000
END:DAYLIGHT
BEGIN:STANDARD
TZOFFSETFROM:+0200
TZOFFSETTO:+0100
TZNAME:CET
DTSTART:20251026T010000
END:STANDARD
END:VTIMEZONE
BEGIN:VEVENT
DTSTART;VALUE=DATE:20240224
DTEND;VALUE=DATE:20240303
DTSTAMP:20260423T032019
CREATED:20231103T115235Z
LAST-MODIFIED:20231103T115235Z
UID:811-1708732800-1709423999@xn--carsten-schtte-qsb.de
SUMMARY:Lesereise vom 24.02. - 02.03.24 auf AIDAnova - Norwegentour
DESCRIPTION:Im Februar geht es mit AIDAnova nach Norwegen auf die „Schärengrab-Tour“\, die immer wieder beeindruckend ist.
URL:https://xn--carsten-schtte-qsb.de/event/lesereise-vom-24-02-02-03-24-auf-aidanova-norwegentour/
LOCATION:AIDAnova\, Kanarentour
ATTACH;FMTTYPE=image/png:https://xn--carsten-schtte-qsb.de/wp-content/uploads/CS_Bergen.png
END:VEVENT
BEGIN:VEVENT
DTSTART;TZID=Europe/Berlin:20240308T193000
DTEND;TZID=Europe/Berlin:20240308T213000
DTSTAMP:20260423T032019
CREATED:20231103T120500Z
LAST-MODIFIED:20231103T120500Z
UID:814-1709926200-1709933400@xn--carsten-schtte-qsb.de
SUMMARY:Der "Neue" ist da!! Premierenlesung von "EisKALT..." am 08.03.23 bei Leuenhagen & Paris
DESCRIPTION:Ich freue mich\, Ihnen mein neues Buch „EisKALT – Wenn Kinder morden“ am \nFr. 08.03.23\, 19:30 Uhr\, in der                                                                          Buchhandlung Leuenhagen & Paris\, Lister Meile 39\, 30161 Hannover\, \nvorstellen zu dürfen.\nIch habe bei den Recherchen kompetente Ansprechpartner und teils Betroffene sprechen können. Noch nie war die Vorbereitung einer meiner Bücher so aufwändig\, interessant\, aber auch erschreckend belastend. \nDie fiktive Handlung dieses Romans beschreibt nicht nur die Entwicklung von jungen Menschen\, die zu Mördern mutieren\, sondern ebenso ihre Fantasien sowie die unerträgliche Ohnmacht des familiären und schulischen Umfelds.\n Was löst diese traumatische Tat in der Familie des Opfers aus? \nWelche Rolle spielt eigentlich die Familie des Täters? \nIst nicht auch sie Opfer ihres eigenen Kindes? \nDie beschriebene Entwicklung der Protagonisten vor\, während und nach der Tat soll sensibilisieren\, die oft mediale Pauschalisierung solcher Taten differenzierter zu betrachten.\nSeien Sie gespannt …
URL:https://xn--carsten-schtte-qsb.de/event/der-neue-ist-da-premierenlesung-von-eiskalt-am-08-03-23-bei-leuenhagen-paris/
LOCATION:Buchhandlung Leuenhagen & Paris\, Lister Meile 39\, Hannover\, 30161
ATTACH;FMTTYPE=image/png:https://xn--carsten-schtte-qsb.de/wp-content/uploads/2023/10/9783827193193.png
ORGANIZER;CN="Buchhandlung Leuenhagen & Paris":MAILTO:kontakt@leuenhagen-paris.de
END:VEVENT
BEGIN:VEVENT
DTSTART;TZID=Europe/Berlin:20240312T190000
DTEND;TZID=Europe/Berlin:20240312T210000
DTSTAMP:20260423T032019
CREATED:20240201T155008Z
LAST-MODIFIED:20240201T155008Z
UID:849-1710270000-1710277200@xn--carsten-schtte-qsb.de
SUMMARY:Lesung "EisKALT ..." am D.\, 12.03.2024 in Isernhagen
DESCRIPTION:Ich freue mich unheimlich\, meinen neuen Thriller in meiner „Heimatbuchhandlung“ Booksbaum in Altwarmbüchen vorstellen zu dürfen. \nDie liebevolle Organisation und Gestaltung des Abends durch das Booksbaum-Teams ist einfach wunderbar\, was sich nicht nur auf den Autor\, sondern auch sofort auf die Gäste überträgt. \n 
URL:https://xn--carsten-schtte-qsb.de/event/lesung-eiskalt-am-d-12-03-2024-in-isernhagen/
LOCATION:Buchhandlung Booksbaum\, Bothfelder Str. 26\, Isernhagen\, 30916\, Deutschland
ATTACH;FMTTYPE=image/jpeg:https://xn--carsten-schtte-qsb.de/wp-content/uploads/Booksbaum-scaled.jpg
ORGANIZER;CN="Buchhandlung Booksbaum":MAILTO:info@booksbaum.de
END:VEVENT
BEGIN:VEVENT
DTSTART;TZID=Europe/Berlin:20240321T190000
DTEND;TZID=Europe/Berlin:20240321T210000
DTSTAMP:20260423T032019
CREATED:20231130T113819Z
LAST-MODIFIED:20231130T113819Z
UID:839-1711047600-1711054800@xn--carsten-schtte-qsb.de
SUMMARY:Lesung "EisKALT" am 21.03.24 im Museum für Filmkunst & Filmtechnik in Bielefeld
DESCRIPTION:Ich freue mich auf eine Lesung in einer besonderen Location\, dem Murnau & Massole – Forum im Museum für Filmkunst & Filmtechnik in Bielefeld. \nIn meiner dienstlichen Vita war ich in mehrere Fälle involviert\, in denen Kinder und Jugendliche getötet wurden und auch getötet haben.. \n„Den schrecklichen Anblick wird der Hausmeister niemals vergessen. Er findet bei seinem morgendlichen Rundgang auf dem Schulgelände ein schwer verletztes\, junges Mädchen gefesselt auf einer Tischtennisplatte. Die Ärzte verlieren den verzweifelten Kampf um ihr Leben. Sämtliche Mordermittlungen führen in die Schule. Während der Tatrekonstruktion des OFA-Teams des LKA Niedersachsen erhält der Fall eine erschreckende Dimension\, mit der niemand gerechnet hatte.“ \nDie fiktive Handlung beschreibt nicht nur die Entwicklung von jungen Menschen\, die zu Mördern werden\, sondern ebenso ihre Fantasien sowie die unerträgliche Ohnmacht des familiären und schulischen Umfelds. Was löst diese traumatische Tat in der Familie des Opfers aus? Welche Rolle spielt eigentlich die Familie des Täters? Ist nicht auch sie Opfer ihres eigenen Kindes? Die beschriebene Entwicklung der Protagonisten vor\, während und nach der Tat ist ein Versuch der differenzierten Betrachtung solcher Geschehnisse. \nKarten unter www.muma-forum.de
URL:https://xn--carsten-schtte-qsb.de/event/lesung-eiskalt-am-21-03-24-im-museum-fuer-filmkunst-filmtechnik-in-bielefeld/
LOCATION:MuMa-Forum im Museum für Filmkunst & Filmtechnik\, Walter-Werning-Str. 9\, Bielefeld\, 33699
ATTACH;FMTTYPE=image/png:https://xn--carsten-schtte-qsb.de/wp-content/uploads/MuMa-Forum.png
END:VEVENT
BEGIN:VEVENT
DTSTART;TZID=Europe/Berlin:20240323T110000
DTEND;TZID=Europe/Berlin:20240323T113000
DTSTAMP:20260423T032019
CREATED:20240209T132534Z
LAST-MODIFIED:20240209T132534Z
UID:855-1711191600-1711193400@xn--carsten-schtte-qsb.de
SUMMARY:Lesung aus "Eiskalt ..." am Sa.\, 23.03.24 auf der Leipziger Buchmesse
DESCRIPTION:Ich freue mich\, am 23. und 24.03.24 wieder inspirierende Kontakte auf der Leipziger Buchmesse knüpfen zu können.  \nIch werde regelmäßig auf dem Stand des CW Niemeyer Buchverlages in Halle 4 – Stand A104 anzutreffen sein und freue mich auch auf euren Besuch zur Lesung am Sa.\, 23.03.24\, 11:00 Uhr\, im Fachforum & Literatur Halle 5.
URL:https://xn--carsten-schtte-qsb.de/event/lesung-aus-eiskalt-am-sa-23-03-24-auf-der-leipziger-buchmesse/
LOCATION:Leipziger Buchmesse – Fachforum & Literatur Halle 5
ATTACH;FMTTYPE=image/jpeg:https://xn--carsten-schtte-qsb.de/wp-content/uploads/Leipziger-Buchmesse-scaled.jpg
END:VEVENT
END:VCALENDAR