BEGIN:VCALENDAR
VERSION:2.0
PRODID:-//Carsten Schütte - ECPv6.15.11//NONSGML v1.0//EN
CALSCALE:GREGORIAN
METHOD:PUBLISH
X-WR-CALNAME:Carsten Schütte
X-ORIGINAL-URL:https://xn--carsten-schtte-qsb.de
X-WR-CALDESC:Veranstaltungen für Carsten Schütte
REFRESH-INTERVAL;VALUE=DURATION:PT1H
X-Robots-Tag:noindex
X-PUBLISHED-TTL:PT1H
BEGIN:VTIMEZONE
TZID:Europe/Berlin
BEGIN:DAYLIGHT
TZOFFSETFROM:+0100
TZOFFSETTO:+0200
TZNAME:CEST
DTSTART:20220327T010000
END:DAYLIGHT
BEGIN:STANDARD
TZOFFSETFROM:+0200
TZOFFSETTO:+0100
TZNAME:CET
DTSTART:20221030T010000
END:STANDARD
BEGIN:DAYLIGHT
TZOFFSETFROM:+0100
TZOFFSETTO:+0200
TZNAME:CEST
DTSTART:20230326T010000
END:DAYLIGHT
BEGIN:STANDARD
TZOFFSETFROM:+0200
TZOFFSETTO:+0100
TZNAME:CET
DTSTART:20231029T010000
END:STANDARD
BEGIN:DAYLIGHT
TZOFFSETFROM:+0100
TZOFFSETTO:+0200
TZNAME:CEST
DTSTART:20240331T010000
END:DAYLIGHT
BEGIN:STANDARD
TZOFFSETFROM:+0200
TZOFFSETTO:+0100
TZNAME:CET
DTSTART:20241027T010000
END:STANDARD
END:VTIMEZONE
BEGIN:VEVENT
DTSTART;VALUE=DATE:20230916
DTEND;VALUE=DATE:20230924
DTSTAMP:20260425T163620
CREATED:20230213T205208Z
LAST-MODIFIED:20230710T113431Z
UID:492-1694822400-1695513599@xn--carsten-schtte-qsb.de
SUMMARY:Vorträge/Lesungen auf AIDAluna auf der Norwegentour
DESCRIPTION:Ich freue mich\, die Reise der AIDAnova nach Norwegen begleiten zu dürfen. \nDie Route führt und entlang der Story meines AIDA-Krimis „Schärengrab“. \nDas besondere an der Begleitung dieser Reise ist die Authentizität\, denn ich lese nach einem Impulsvortrag im Theatrium die Passagen vor den jeweiligen Landausflügen\, wo nicht nur die Handlungsorte der spannenden Kapitel\, sondern auch die Tatorte zu finden sind. \nEigentlich sollte es ein erholsamer Urlaub des  OFA-Teams sein. „Einfach mal abschalten\,“ war der eigentliche Plan. Doch alles kommt anders.  Schon in Oslo werden sie mit einem Mord konfrontiert\, wobei Thorsten Büthe sogar unter Tatverdacht gerät. Die blutige Spur des Täters führt entlang der Route des Kreuzfahrtschiffes und bringt sowohl das Profilerteam als auch die norwegische Polizei im Eidfjord\, in Bergen\, im Geirangerfjord und auch in Ålesund an ihre Grenzen. \nFreuen Sie sich auf eine spannende Begleitung auf der AIDAnova!!
URL:https://xn--carsten-schtte-qsb.de/event/vortraege-lesungen-auf-aidaluna-auf-der-norwegentour/
ATTACH;FMTTYPE=image/jpeg:https://xn--carsten-schtte-qsb.de/wp-content/uploads/2023/02/AFBB431A-4416-4EB2-9956-6877CCE27FEF.jpg
END:VEVENT
END:VCALENDAR