BEGIN:VCALENDAR
VERSION:2.0
PRODID:-//Carsten Schütte - ECPv6.15.11//NONSGML v1.0//EN
CALSCALE:GREGORIAN
METHOD:PUBLISH
X-ORIGINAL-URL:https://xn--carsten-schtte-qsb.de
X-WR-CALDESC:Veranstaltungen für Carsten Schütte
REFRESH-INTERVAL;VALUE=DURATION:PT1H
X-Robots-Tag:noindex
X-PUBLISHED-TTL:PT1H
BEGIN:VTIMEZONE
TZID:Europe/Berlin
BEGIN:DAYLIGHT
TZOFFSETFROM:+0100
TZOFFSETTO:+0200
TZNAME:CEST
DTSTART:20220327T010000
END:DAYLIGHT
BEGIN:STANDARD
TZOFFSETFROM:+0200
TZOFFSETTO:+0100
TZNAME:CET
DTSTART:20221030T010000
END:STANDARD
BEGIN:DAYLIGHT
TZOFFSETFROM:+0100
TZOFFSETTO:+0200
TZNAME:CEST
DTSTART:20230326T010000
END:DAYLIGHT
BEGIN:STANDARD
TZOFFSETFROM:+0200
TZOFFSETTO:+0100
TZNAME:CET
DTSTART:20231029T010000
END:STANDARD
BEGIN:DAYLIGHT
TZOFFSETFROM:+0100
TZOFFSETTO:+0200
TZNAME:CEST
DTSTART:20240331T010000
END:DAYLIGHT
BEGIN:STANDARD
TZOFFSETFROM:+0200
TZOFFSETTO:+0100
TZNAME:CET
DTSTART:20241027T010000
END:STANDARD
END:VTIMEZONE
BEGIN:VEVENT
DTSTART;VALUE=DATE:20230401
DTEND;VALUE=DATE:20230409
DTSTAMP:20260426T014818
CREATED:20230127T101310Z
LAST-MODIFIED:20230213T193753Z
UID:464-1680307200-1680998399@xn--carsten-schtte-qsb.de
SUMMARY:Weltmeerpremierenlesung des neuen Romans "Kanarenblut" auf der AIDAnova
DESCRIPTION:Es ist wieder soweit … \nMein neuer Profiler- und AIDA-Krimi „Kanarenblut“ erscheint im März 2023. \nWas passt besser\, als ihn dort vorzustellen\, wo er spielt – auf der Kanarentour. \nDas besondere an der Begleitung dieser Reise ist die Authentizität\, denn ich lese die Passagen an Bord vor den jeweiligen Landausflügen\, wo nicht nur die Handlungsorte der spannenden Kapitel\, sondern auch die Tatorte zu finden sind. \nNeben einem Impulsvortrag im Theatrium beginnen die mitunter tödlichen Ereignisse im Rahmen der Crime Cruise auf Madeira und setzen sich über Teneriffa\, Fuerteventura und Lanzarote bis zu dem spektakulären Showdown auf Gran Canaria fort. \nFreuen Sie sich auf eine spannende Begleitung auf der AIDAnova!!
URL:https://xn--carsten-schtte-qsb.de/event/weltmeerpremierenlesung-des-neuen-romans-kanarenblut-auf-der-aidanova/
LOCATION:AIDAnova auf der Kanarentour
ATTACH;FMTTYPE=image/png:https://xn--carsten-schtte-qsb.de/wp-content/uploads/2023/01/Cover-beidseitig.png
END:VEVENT
BEGIN:VEVENT
DTSTART;TZID=Europe/Berlin:20230412T200000
DTEND;TZID=Europe/Berlin:20230412T220000
DTSTAMP:20260426T014818
CREATED:20230213T203644Z
LAST-MODIFIED:20230213T203644Z
UID:483-1681329600-1681336800@xn--carsten-schtte-qsb.de
SUMMARY:Lesung Profiler- und AIDA-Krimis im Amtshof Burgwedel am 12.04.23
DESCRIPTION:Eine Lesung in der Nachbarschaft ist stets etwas Besonderes. \nAuf Einladung der Bücherei Burgwedel freue ich mich auf einen spannenden Abend im Amtshof. \nNeben einer Einführung in das Portfolio der Operativen Fallanalyse (OFA)\, stelle ich Ihnen meine Profiler- und Kreuzfahrtkrimis vor\, die alle einen Bezug in die Region Hannover ausweisen. \nZudem darf ich Ihnen meinen neuen AIDA-Krimi „Kanarenblut“ vorstellen. Hier findet auf der Kanarentour eine sog. Crime Cruise auf einem Kreuzfahrtschiff statt\, auf der nicht nur hochkarätige Referenten\, sondern sich auch ein Mörder unter den Teilnehmern befindet. \nEin Wettlauf mit der Zeit beginnt …
URL:https://xn--carsten-schtte-qsb.de/event/lesung-profiler-und-aida-krimis-im-amtshof-burgwedel-am-12-04-23/
LOCATION:Amtshof Burgwedel\, Auf dem Amtshof 8\, Burgwedel\, 30938
ATTACH;FMTTYPE=image/jpeg:https://xn--carsten-schtte-qsb.de/wp-content/uploads/2023/02/Flyer_2023-scaled.jpg
END:VEVENT
BEGIN:VEVENT
DTSTART;TZID=Europe/Berlin:20230414T190000
DTEND;TZID=Europe/Berlin:20230414T210000
DTSTAMP:20260426T014818
CREATED:20230327T155608Z
LAST-MODIFIED:20230327T155826Z
UID:504-1681498800-1681506000@xn--carsten-schtte-qsb.de
SUMMARY:Triolesung mit Ulrich Behmann und Thorsten Süße am 14.04.2023 in Guben
DESCRIPTION:Am Fr.\, 14.04.2023\, 19:00 Uhr\, erwartet Sie in der Stadtbibliothek Guben eine dreidimensionale Lesung mit Autoren\, die einfach wissen\, worüber sie schreiben. \n\nThorsten Süße (www.thorsten-suesse.de) ist – genauso wie seine Romanfigur Dr. Mark Seifert – Facharzt für Psychiatrie\, Psychotherapie und Psychosomatische Medizin\, der Leiter des Sozialpsychiatrischen Dienstes der Region Hannover. Diese Fachkenntnisse fließen natürlich in seine autobiografischen und spannenden Romane ein.\nUlrich Behmann ist als Chefreporter der DEWEZET nicht nur journalistisch am Puls der Zeit\, sondern erhält über seinen Vorsitz der Interhelp – Deutsche Gesellschaft für internationale Hilfe e.V. weltweit persönliche Einblicke in oft prekären Situationen in Krisen- und auch Kriegsgebieten. Diese Erfahrungen bringt er in seine teils fiktiven\, aber auch dokumentarischen Romane derart authentisch mit ein\, dass einem der Atem stockt.\nIch bin der Dritte im Bunde\n\nIn Kombination mit meinen Anteilen dieser Lesung werden wir einen spannenden Abend kreieren\, der es in sich haben wird. \nWir freuen uns auf Sie!
URL:https://xn--carsten-schtte-qsb.de/event/triolesung-mit-ulrich-behmann-und-thorsten-suesse-am-14-04-2023-in-guben/
LOCATION:Stadtbibliothek Guben\, Gasstr. 6\, Guben\, 03172
ATTACH;FMTTYPE=image/png:https://xn--carsten-schtte-qsb.de/wp-content/uploads/2023/03/Bildschirmfoto-2023-03-27-um-17.57.22.png
END:VEVENT
BEGIN:VEVENT
DTSTART;VALUE=DATE:20230416
DTEND;VALUE=DATE:20230424
DTSTAMP:20260426T014818
CREATED:20230213T195028Z
LAST-MODIFIED:20230213T200440Z
UID:477-1681603200-1682294399@xn--carsten-schtte-qsb.de
SUMMARY:Lesungen auf der AIDAaura auf der Norwegentour mit Schwerpunkt "Schärengrab"
DESCRIPTION:Ich freue mich besonders\, eine der letzten Reisen der AIDAaura nach Norwegen begleiten zu dürfen. \nDie Route führt und entlang der Story meines AIDA-Krimis „Schärengrab“. \nDas besondere an der Begleitung dieser Reise ist die Authentizität\, denn ich lese nach einem Impulsvortrag im Theatrium die Passagen vor den jeweiligen Landausflügen\, wo nicht nur die Handlungsorte der spannenden Kapitel\, sondern auch die Tatorte zu finden sind. \nEigentlich sollte es ein erholsamer Urlaub des  OFA-Teams sein. „Einfach mal abschalten\,“ war der eigentliche Plan. Doch alles kommt anders.  Schon in Oslo werden sie mit einem Mord konfrontiert\, wobei Thorsten Büthe sogar unter Tatverdacht gerät. Die blutige Spur des Täters führt entlang der Route des Kreuzfahrtschiffes und bringt sowohl das Profilerteam als auch die norwegische Polizei im Eidfjord\, in Bergen\, im Geirangerfjord und auch in Ålesund an ihre Grenzen. \nFreuen Sie sich auf eine spannende Begleitung auf der AIDAaura!!
URL:https://xn--carsten-schtte-qsb.de/event/lesungen-auf-der-aidaaura-auf-der-norwegentour-mit-schwerpunkt-schaerengrab/
LOCATION:AIDAaura auf der Norwegentour
ATTACH;FMTTYPE=image/jpeg:https://xn--carsten-schtte-qsb.de/wp-content/uploads/2023/02/Schaerengrab_Rueck-scaled.jpg
END:VEVENT
END:VCALENDAR