BEGIN:VCALENDAR
VERSION:2.0
PRODID:-//Carsten Schütte - ECPv6.15.11//NONSGML v1.0//EN
CALSCALE:GREGORIAN
METHOD:PUBLISH
X-ORIGINAL-URL:https://xn--carsten-schtte-qsb.de
X-WR-CALDESC:Veranstaltungen für Carsten Schütte
REFRESH-INTERVAL;VALUE=DURATION:PT1H
X-Robots-Tag:noindex
X-PUBLISHED-TTL:PT1H
BEGIN:VTIMEZONE
TZID:Europe/Berlin
BEGIN:DAYLIGHT
TZOFFSETFROM:+0100
TZOFFSETTO:+0200
TZNAME:CEST
DTSTART:20210328T010000
END:DAYLIGHT
BEGIN:STANDARD
TZOFFSETFROM:+0200
TZOFFSETTO:+0100
TZNAME:CET
DTSTART:20211031T010000
END:STANDARD
BEGIN:DAYLIGHT
TZOFFSETFROM:+0100
TZOFFSETTO:+0200
TZNAME:CEST
DTSTART:20220327T010000
END:DAYLIGHT
BEGIN:STANDARD
TZOFFSETFROM:+0200
TZOFFSETTO:+0100
TZNAME:CET
DTSTART:20221030T010000
END:STANDARD
BEGIN:DAYLIGHT
TZOFFSETFROM:+0100
TZOFFSETTO:+0200
TZNAME:CEST
DTSTART:20230326T010000
END:DAYLIGHT
BEGIN:STANDARD
TZOFFSETFROM:+0200
TZOFFSETTO:+0100
TZNAME:CET
DTSTART:20231029T010000
END:STANDARD
BEGIN:DAYLIGHT
TZOFFSETFROM:+0100
TZOFFSETTO:+0200
TZNAME:CEST
DTSTART:20240331T010000
END:DAYLIGHT
BEGIN:STANDARD
TZOFFSETFROM:+0200
TZOFFSETTO:+0100
TZNAME:CET
DTSTART:20241027T010000
END:STANDARD
END:VTIMEZONE
BEGIN:VEVENT
DTSTART;VALUE=DATE:20221228
DTEND;VALUE=DATE:20230121
DTSTAMP:20260426T062855
CREATED:20230127T094013Z
LAST-MODIFIED:20230127T094153Z
UID:451-1672185600-1674259199@xn--carsten-schtte-qsb.de
SUMMARY:Lesungen auf AIDAbella auf der Karibiktour
DESCRIPTION:Es geht wieder auf See … \nAm  28.12.22  startet wieder eine Lesereise auf der Karibiktour mit AIDAbella. Hier darf ich die Passagiere bis zum 20.01.23 mit Auszügen aus meinen Krimis unterhalten. \nDie Lesereise startet auf Aruba über Santo Domingo\, Tortola\, St. Maarten\, St. Kitts\, Martinique dann über den Atlantik zurück nach Madeira über Lissabon und Rotterdam nach Hamburg.
URL:https://xn--carsten-schtte-qsb.de/event/lesungen-auf-aidabella-auf-der-karibiktour/
LOCATION:AIDAbella auf der Karibiktour
ATTACH;FMTTYPE=image/jpeg:https://xn--carsten-schtte-qsb.de/wp-content/uploads/2023/01/Bella22-725-scaled.jpg
END:VEVENT
BEGIN:VEVENT
DTSTART;TZID=Europe/Berlin:20230127T183000
DTEND;TZID=Europe/Berlin:20230127T200000
DTSTAMP:20260426T062855
CREATED:20230127T095338Z
LAST-MODIFIED:20230127T095338Z
UID:456-1674844200-1674849600@xn--carsten-schtte-qsb.de
SUMMARY:Lesung am 07.02.2023\, 18:30 Uhr\, in der Stadtbibliothek Salzgitter-Lebenstedt
DESCRIPTION:Ich freue mich auf meine Lesung in der Stadtbibliothek Salzgitter-Lebenstedt und werde neben einer allgemeinen Einführung zu meinen bisherigen Krimis\, primär den aktuellen Roman „Opferbucht“ vorstellen.
URL:https://xn--carsten-schtte-qsb.de/event/lesung-am-07-02-2023-1830-uhr-in-der-stadtbibliothek-salzgitter-lebenstedt/
LOCATION:Stadtbiliothek Salzgitter-Lebenstedt\, Joachim-Campe-Straße 4\, Salzgitter-Lebenstedt\, 38226
ATTACH;FMTTYPE=image/jpeg:https://xn--carsten-schtte-qsb.de/wp-content/uploads/2022/03/Cover-beidseitig.jpg
END:VEVENT
END:VCALENDAR