BEGIN:VCALENDAR
VERSION:2.0
PRODID:-//Carsten Schütte - ECPv6.15.11//NONSGML v1.0//EN
CALSCALE:GREGORIAN
METHOD:PUBLISH
X-ORIGINAL-URL:https://xn--carsten-schtte-qsb.de
X-WR-CALDESC:Veranstaltungen für Carsten Schütte
REFRESH-INTERVAL;VALUE=DURATION:PT1H
X-Robots-Tag:noindex
X-PUBLISHED-TTL:PT1H
BEGIN:VTIMEZONE
TZID:Europe/Berlin
BEGIN:DAYLIGHT
TZOFFSETFROM:+0100
TZOFFSETTO:+0200
TZNAME:CEST
DTSTART:20240331T010000
END:DAYLIGHT
BEGIN:STANDARD
TZOFFSETFROM:+0200
TZOFFSETTO:+0100
TZNAME:CET
DTSTART:20241027T010000
END:STANDARD
BEGIN:DAYLIGHT
TZOFFSETFROM:+0100
TZOFFSETTO:+0200
TZNAME:CEST
DTSTART:20250330T010000
END:DAYLIGHT
BEGIN:STANDARD
TZOFFSETFROM:+0200
TZOFFSETTO:+0100
TZNAME:CET
DTSTART:20251026T010000
END:STANDARD
BEGIN:DAYLIGHT
TZOFFSETFROM:+0100
TZOFFSETTO:+0200
TZNAME:CEST
DTSTART:20260329T010000
END:DAYLIGHT
BEGIN:STANDARD
TZOFFSETFROM:+0200
TZOFFSETTO:+0100
TZNAME:CET
DTSTART:20261025T010000
END:STANDARD
END:VTIMEZONE
BEGIN:VEVENT
DTSTART;VALUE=DATE:20251206
DTEND;VALUE=DATE:20251214
DTSTAMP:20260421T174212
CREATED:20241209T133822Z
LAST-MODIFIED:20241209T133822Z
UID:944-1764979200-1765670399@xn--carsten-schtte-qsb.de
SUMMARY:AIDA Crime & Sea Cruise vom 06. - 13.12.2025 auf AIDAnova ab Hamburg
DESCRIPTION:Es ist wirklich wahr … \nMit vielen wunderbaren Gästen veranstaltet AIDA eine spannende Crime & Sea Cruise vom 06. – 13.12.2025 auf AIDAnova ab Hamburg.\nNeben Lesungen und Vorträgen zu meinen AIDA-Krimis bieten wir euch als CrimeCoaches einen Tatortanalyse-Workshop\, in dem ihr nicht nur Einblicke in die Arbeit der Mordermittler\, Profiler\, Rechtsmediziner und forensischen Psychiater erhaltet\, sondern selbst an einem inszenierten Tatort agieren könnt. \nSeid schnell\, die Plätze dafür sind begrenzt. \nwww.aida.de/erlebnisse/aida-specials/crime-and-sea
URL:https://xn--carsten-schtte-qsb.de/event/aida-crime-sea-cruise-vom-06-13-12-2025-auf-aidanova-ab-hamburg/
ATTACH;FMTTYPE=image/png:https://xn--carsten-schtte-qsb.de/wp-content/uploads/Bildschirmfoto-2024-12-09-um-14.37.45.png
END:VEVENT
END:VCALENDAR