BEGIN:VCALENDAR
VERSION:2.0
PRODID:-//Carsten Schütte - ECPv6.15.11//NONSGML v1.0//EN
CALSCALE:GREGORIAN
METHOD:PUBLISH
X-WR-CALNAME:Carsten Schütte
X-ORIGINAL-URL:https://xn--carsten-schtte-qsb.de
X-WR-CALDESC:Veranstaltungen für Carsten Schütte
REFRESH-INTERVAL;VALUE=DURATION:PT1H
X-Robots-Tag:noindex
X-PUBLISHED-TTL:PT1H
BEGIN:VTIMEZONE
TZID:Europe/Berlin
BEGIN:DAYLIGHT
TZOFFSETFROM:+0100
TZOFFSETTO:+0200
TZNAME:CEST
DTSTART:20240331T010000
END:DAYLIGHT
BEGIN:STANDARD
TZOFFSETFROM:+0200
TZOFFSETTO:+0100
TZNAME:CET
DTSTART:20241027T010000
END:STANDARD
BEGIN:DAYLIGHT
TZOFFSETFROM:+0100
TZOFFSETTO:+0200
TZNAME:CEST
DTSTART:20250330T010000
END:DAYLIGHT
BEGIN:STANDARD
TZOFFSETFROM:+0200
TZOFFSETTO:+0100
TZNAME:CET
DTSTART:20251026T010000
END:STANDARD
BEGIN:DAYLIGHT
TZOFFSETFROM:+0100
TZOFFSETTO:+0200
TZNAME:CEST
DTSTART:20260329T010000
END:DAYLIGHT
BEGIN:STANDARD
TZOFFSETFROM:+0200
TZOFFSETTO:+0100
TZNAME:CET
DTSTART:20261025T010000
END:STANDARD
END:VTIMEZONE
BEGIN:VEVENT
DTSTART;VALUE=DATE:20251025
DTEND;VALUE=DATE:20251121
DTSTAMP:20260421T191356
CREATED:20241209T132236Z
LAST-MODIFIED:20251016T193118Z
UID:941-1761350400-1763683199@xn--carsten-schtte-qsb.de
SUMMARY:Lesereise auf AIDAperla vom 25.10. - 20.11.25 von Hamburg in die Karibik musste "leider"abgesagt werden!
DESCRIPTION:Im Oktober/November geht’s auf AIDAperla in die Sonne auf die Karibiktour. \nRoute:  Hamburg – A Coruña – Porto – Lissabon – Lanzarote – Gran Canaria – Teneriffa – St. Maarten – Martinique – St. Vincent – Barbados – Grenada – St. Lucia – Dominica – Guadeloupe – Antigua – La Romana. \nAn dieser Tour können wir leider nicht teilnehmen\, da wir unsere jüngste Tochter unser 4. Enkelkind erwartet und wir als Unterstützung vor Ort bleiben.  \nIch hoffe\, ihr dafür Verständnis. \nVielen dank dafür!
URL:https://xn--carsten-schtte-qsb.de/event/lesereise-auf-aidaperla-vom-25-10-20-11-25-von-hamburg-in-die-karibik/
ATTACH;FMTTYPE=image/png:https://xn--carsten-schtte-qsb.de/wp-content/uploads/Bildschirmfoto-2024-12-09-um-13.37.24.png
END:VEVENT
BEGIN:VEVENT
DTSTART;TZID=Europe/Berlin:20251114T183000
DTEND;TZID=Europe/Berlin:20251114T203000
DTSTAMP:20260421T191356
CREATED:20251016T202406Z
LAST-MODIFIED:20251111T114706Z
UID:1055-1763145000-1763152200@xn--carsten-schtte-qsb.de
SUMMARY:AIDA Crime mit Lesung aus "Crime & Sea" am 14.11.25\, 18:30 Uhr im Kunsthaus Salzwedel
DESCRIPTION:Ich freue mich\, meinen neuen AIDA-Krimi „Crime & Sea“ im Kunsthaus Salzwedel in Kooperation mit dem TUI Center Eichmann vorstellen zu dürfen. \nSo können wir allen Gästen kompetent zur Verfügung stehen und nicht nur kriminalistischen Fragen klären\, sondern auch für die Reisen an sich mit Rat und Tat zur Seite stehen.\nIch freue mich auf einen wunderbaren AIDA Crime Abend.
URL:https://xn--carsten-schtte-qsb.de/event/aida-crime-mit-lesung-aus-crime-sea-am-14-11-25-1830-uhr-im-tui-reisecenter-eichmann-in-salzwedel/
LOCATION:Kunsthaus Salzwedel\, Neuperver Str. 18\, Salzwedel
ATTACH;FMTTYPE=image/jpeg:https://xn--carsten-schtte-qsb.de/wp-content/uploads/CrimeSea_quer.jpg
END:VEVENT
END:VCALENDAR