BEGIN:VCALENDAR
VERSION:2.0
PRODID:-//Carsten Schütte - ECPv6.15.11//NONSGML v1.0//EN
CALSCALE:GREGORIAN
METHOD:PUBLISH
X-ORIGINAL-URL:https://xn--carsten-schtte-qsb.de
X-WR-CALDESC:Veranstaltungen für Carsten Schütte
REFRESH-INTERVAL;VALUE=DURATION:PT1H
X-Robots-Tag:noindex
X-PUBLISHED-TTL:PT1H
BEGIN:VTIMEZONE
TZID:Europe/Berlin
BEGIN:DAYLIGHT
TZOFFSETFROM:+0100
TZOFFSETTO:+0200
TZNAME:CEST
DTSTART:20240331T010000
END:DAYLIGHT
BEGIN:STANDARD
TZOFFSETFROM:+0200
TZOFFSETTO:+0100
TZNAME:CET
DTSTART:20241027T010000
END:STANDARD
BEGIN:DAYLIGHT
TZOFFSETFROM:+0100
TZOFFSETTO:+0200
TZNAME:CEST
DTSTART:20250330T010000
END:DAYLIGHT
BEGIN:STANDARD
TZOFFSETFROM:+0200
TZOFFSETTO:+0100
TZNAME:CET
DTSTART:20251026T010000
END:STANDARD
BEGIN:DAYLIGHT
TZOFFSETFROM:+0100
TZOFFSETTO:+0200
TZNAME:CEST
DTSTART:20260329T010000
END:DAYLIGHT
BEGIN:STANDARD
TZOFFSETFROM:+0200
TZOFFSETTO:+0100
TZNAME:CET
DTSTART:20261025T010000
END:STANDARD
END:VTIMEZONE
BEGIN:VEVENT
DTSTART;TZID=Europe/Berlin:20251016T080000
DTEND;TZID=Europe/Berlin:20251016T170000
DTSTAMP:20260421T221127
CREATED:20251016T201335Z
LAST-MODIFIED:20251016T201335Z
UID:1048-1760601600-1760634000@xn--carsten-schtte-qsb.de
SUMMARY:AIDA & Crime Abend mit "Crime & Sea" am 29.11.25 im Reisebüro Eichmann in Wittingen
DESCRIPTION:Ich freue mich\, meinen neuen AIDA-Krimi „Crime & Sea“ im Reisebüro Eichmann vorstellen zu dürfen und den Abend zudem gemeinsam mit einem Vertreter von AIDA gemeinsam zu gestalten.\nSo können wir allen Gästen für Fragen zur Verfügung stehen und nicht nur kriminalistischen Fragen klären\, sondern auch für die Reisen an sich mit Rat und Tat zur Seite stehen.\nIch freue mich auf einen wunderbaren AIDA Crime Abend.
URL:https://xn--carsten-schtte-qsb.de/event/aida-crime-abend-mit-crime-sea-am-29-11-25-im-reisebuero-eichmann-in-wittingen/
ATTACH;FMTTYPE=image/png:https://xn--carsten-schtte-qsb.de/wp-content/uploads/Bildschirmfoto-2025-10-16-um-22.11.27.png
ORGANIZER;CN="TUI Reisecenter Eichmann in Wittingen":MAILTO:wittingen@eichmann-reisen.de
END:VEVENT
BEGIN:VEVENT
DTSTART;TZID=Europe/Berlin:20251016T080000
DTEND;TZID=Europe/Berlin:20251016T170000
DTSTAMP:20260421T221127
CREATED:20251016T203720Z
LAST-MODIFIED:20251016T203720Z
UID:1061-1760601600-1760634000@xn--carsten-schtte-qsb.de
SUMMARY:Crime Talk zu "EisKALT - Wenn Kinder morden" am 22.01.26 im Medienhaus der Braunschweiger Zeitung
DESCRIPTION:Am Do.\, 22.01.2026\, 19:00 Uhr\, findet ein moderierter Crime Talk zu „EisKALT – Wenn Kinder morden“ im Medienhaus der Braunschweiger Zeitung statt.\nIch bin sehr gespannt\, welche Fragen des Moderators\, Hendrik Rasehorn\, mit den Gästen und mir erörtern werden und freue mich auf einen sicherlich informativen und spannenden Abend.
URL:https://xn--carsten-schtte-qsb.de/event/crime-talk-zu-eiskalt-wenn-kinder-morden-am-22-01-26-im-medienhaus-der-braunschweiger-zeitung/
LOCATION:Forum Medienhaus Braunschweig\, Hintern Brüdern 23\, Braunschweig\, 38100
ATTACH;FMTTYPE=image/png:https://xn--carsten-schtte-qsb.de/wp-content/uploads/Bildschirmfoto-2025-10-16-um-22.29.54.png
END:VEVENT
END:VCALENDAR