BEGIN:VCALENDAR
VERSION:2.0
PRODID:-//Carsten Schütte - ECPv6.15.11//NONSGML v1.0//EN
CALSCALE:GREGORIAN
METHOD:PUBLISH
X-ORIGINAL-URL:https://xn--carsten-schtte-qsb.de
X-WR-CALDESC:Veranstaltungen für Carsten Schütte
REFRESH-INTERVAL;VALUE=DURATION:PT1H
X-Robots-Tag:noindex
X-PUBLISHED-TTL:PT1H
BEGIN:VTIMEZONE
TZID:Europe/Berlin
BEGIN:DAYLIGHT
TZOFFSETFROM:+0100
TZOFFSETTO:+0200
TZNAME:CEST
DTSTART:20240331T010000
END:DAYLIGHT
BEGIN:STANDARD
TZOFFSETFROM:+0200
TZOFFSETTO:+0100
TZNAME:CET
DTSTART:20241027T010000
END:STANDARD
BEGIN:DAYLIGHT
TZOFFSETFROM:+0100
TZOFFSETTO:+0200
TZNAME:CEST
DTSTART:20250330T010000
END:DAYLIGHT
BEGIN:STANDARD
TZOFFSETFROM:+0200
TZOFFSETTO:+0100
TZNAME:CET
DTSTART:20251026T010000
END:STANDARD
BEGIN:DAYLIGHT
TZOFFSETFROM:+0100
TZOFFSETTO:+0200
TZNAME:CEST
DTSTART:20260329T010000
END:DAYLIGHT
BEGIN:STANDARD
TZOFFSETFROM:+0200
TZOFFSETTO:+0100
TZNAME:CET
DTSTART:20261025T010000
END:STANDARD
END:VTIMEZONE
BEGIN:VEVENT
DTSTART;VALUE=DATE:20250824
DTEND;VALUE=DATE:20250827
DTSTAMP:20260422T012139
CREATED:20241209T131309Z
LAST-MODIFIED:20241209T131309Z
UID:935-1755993600-1756252799@xn--carsten-schtte-qsb.de
SUMMARY:Krimitour von Rotterdam nach Berlin auf Teilstück von Sneek nach Papenburg vom 24. - 26.08.25 auf der Sans Souci
DESCRIPTION:Im August findet eine Krimitour von Plantours auf der Sans Souci mit wunderbaren Kolleg*innen von Rotterdam nach Berlin statt\, die ich vom 24. – 26.08.25 auf dem Teilstück von Sneek/NL bis Papenburg begleiten darf. \n 
URL:https://xn--carsten-schtte-qsb.de/event/krimitour-von-rotterdam-nach-berlin-auf-teilstueck-von-sneek-nach-papenburg-vom-24-26-08-25-auf-der-sans-souci/
ATTACH;FMTTYPE=image/jpeg:https://xn--carsten-schtte-qsb.de/wp-content/uploads/San-Souci-scaled.jpg
END:VEVENT
END:VCALENDAR