BEGIN:VCALENDAR
VERSION:2.0
PRODID:-//Carsten Schütte - ECPv6.15.11//NONSGML v1.0//EN
CALSCALE:GREGORIAN
METHOD:PUBLISH
X-ORIGINAL-URL:https://xn--carsten-schtte-qsb.de
X-WR-CALDESC:Veranstaltungen für Carsten Schütte
REFRESH-INTERVAL;VALUE=DURATION:PT1H
X-Robots-Tag:noindex
X-PUBLISHED-TTL:PT1H
BEGIN:VTIMEZONE
TZID:Europe/Berlin
BEGIN:DAYLIGHT
TZOFFSETFROM:+0100
TZOFFSETTO:+0200
TZNAME:CEST
DTSTART:20240331T010000
END:DAYLIGHT
BEGIN:STANDARD
TZOFFSETFROM:+0200
TZOFFSETTO:+0100
TZNAME:CET
DTSTART:20241027T010000
END:STANDARD
BEGIN:DAYLIGHT
TZOFFSETFROM:+0100
TZOFFSETTO:+0200
TZNAME:CEST
DTSTART:20250330T010000
END:DAYLIGHT
BEGIN:STANDARD
TZOFFSETFROM:+0200
TZOFFSETTO:+0100
TZNAME:CET
DTSTART:20251026T010000
END:STANDARD
BEGIN:DAYLIGHT
TZOFFSETFROM:+0100
TZOFFSETTO:+0200
TZNAME:CEST
DTSTART:20260329T010000
END:DAYLIGHT
BEGIN:STANDARD
TZOFFSETFROM:+0200
TZOFFSETTO:+0100
TZNAME:CET
DTSTART:20261025T010000
END:STANDARD
END:VTIMEZONE
BEGIN:VEVENT
DTSTART;TZID=Europe/Berlin:20250227T190000
DTEND;TZID=Europe/Berlin:20250227T210000
DTSTAMP:20260422T095613
CREATED:20250203T085608Z
LAST-MODIFIED:20250203T085608Z
UID:948-1740682800-1740690000@xn--carsten-schtte-qsb.de
SUMMARY:Lesung "EisKALT-Wenn Kinder morden" am 27.2.25 im Kulturrathaus Hannover-Vinnhorst
DESCRIPTION:Im Rahmen der „WortOrt – Lesungen“ darf ich meine bisherige Krimireihe mit Schwerpunkt meines Thrillers „EisKALT – Wenn Kinder morden“ vorstellen.
URL:https://xn--carsten-schtte-qsb.de/event/lesung-eiskalt-wenn-kinder-morden-am-27-2-25-im-kulturrathaus-hannover-vinnhorst/
LOCATION:Kulturrathaus Hannover – Vinnhorst\, Vinnhorster Rathausplatz 1\, Hannover\, 30419
ATTACH;FMTTYPE=image/png:https://xn--carsten-schtte-qsb.de/wp-content/uploads/2023/10/9783827193193.png
ORGANIZER;CN="Kulturrathaus Vinnhorst":MAILTO:info@kultur-in-vinnhorst.de
END:VEVENT
END:VCALENDAR