BEGIN:VCALENDAR
VERSION:2.0
PRODID:-//Carsten Schütte - ECPv6.15.11//NONSGML v1.0//EN
CALSCALE:GREGORIAN
METHOD:PUBLISH
X-ORIGINAL-URL:https://xn--carsten-schtte-qsb.de
X-WR-CALDESC:Veranstaltungen für Carsten Schütte
REFRESH-INTERVAL;VALUE=DURATION:PT1H
X-Robots-Tag:noindex
X-PUBLISHED-TTL:PT1H
BEGIN:VTIMEZONE
TZID:Europe/Berlin
BEGIN:DAYLIGHT
TZOFFSETFROM:+0100
TZOFFSETTO:+0200
TZNAME:CEST
DTSTART:20230326T010000
END:DAYLIGHT
BEGIN:STANDARD
TZOFFSETFROM:+0200
TZOFFSETTO:+0100
TZNAME:CET
DTSTART:20231029T010000
END:STANDARD
BEGIN:DAYLIGHT
TZOFFSETFROM:+0100
TZOFFSETTO:+0200
TZNAME:CEST
DTSTART:20240331T010000
END:DAYLIGHT
BEGIN:STANDARD
TZOFFSETFROM:+0200
TZOFFSETTO:+0100
TZNAME:CET
DTSTART:20241027T010000
END:STANDARD
BEGIN:DAYLIGHT
TZOFFSETFROM:+0100
TZOFFSETTO:+0200
TZNAME:CEST
DTSTART:20250330T010000
END:DAYLIGHT
BEGIN:STANDARD
TZOFFSETFROM:+0200
TZOFFSETTO:+0100
TZNAME:CET
DTSTART:20251026T010000
END:STANDARD
END:VTIMEZONE
BEGIN:VEVENT
DTSTART;TZID=Europe/Berlin:20241030T190000
DTEND;TZID=Europe/Berlin:20241030T220000
DTSTAMP:20260422T162218
CREATED:20240801T131055Z
LAST-MODIFIED:20240801T131055Z
UID:893-1730314800-1730325600@xn--carsten-schtte-qsb.de
SUMMARY:Crime Abend "EisKALT - Wenn Kinder morden" am 30.10.24 im piccolo teatro BRV
DESCRIPTION:Das „piccolo teatro“ in Bremerhaven hat mit seinen 50 Plätzen ein besonders charmantes Ambiente. \nIch darf euch hier sensibel das Thema zu meinem aktuellen Thriller „EisKALT – Wenn Kinder morden“ vorstellen\, es mit Hintergrundinfos anreichern\, um so mit euch darüber ins Gespräch zu kommen. \nIch freue mich auf einen spannenden Abend in fast familiäres Atmosphäre des „piccolo teatro“ \nKarten bekommt ihr telefonisch unter 0471 41830671 oder 0172 214 6597 sowie per Mail an info@haventheater.de
URL:https://xn--carsten-schtte-qsb.de/event/crime-abend-eiskalt-wenn-kinder-morden-am-30-10-24-im-piccolo-teatro-brv/
LOCATION:piccolo teatro\, Bürgermeister-Smidt-Straße 200\, Bremerhaven\, 27568
ATTACH;FMTTYPE=image/png:https://xn--carsten-schtte-qsb.de/wp-content/uploads/Bildschirmfoto-2024-08-01-um-14.57.25.png
ORGANIZER;CN="piccolo teatro":MAILTO:info@haventheater.de
END:VEVENT
END:VCALENDAR