BEGIN:VCALENDAR
VERSION:2.0
PRODID:-//Carsten Schütte - ECPv6.15.11//NONSGML v1.0//EN
CALSCALE:GREGORIAN
METHOD:PUBLISH
X-ORIGINAL-URL:https://xn--carsten-schtte-qsb.de
X-WR-CALDESC:Veranstaltungen für Carsten Schütte
REFRESH-INTERVAL;VALUE=DURATION:PT1H
X-Robots-Tag:noindex
X-PUBLISHED-TTL:PT1H
BEGIN:VTIMEZONE
TZID:Europe/Berlin
BEGIN:DAYLIGHT
TZOFFSETFROM:+0100
TZOFFSETTO:+0200
TZNAME:CEST
DTSTART:20230326T010000
END:DAYLIGHT
BEGIN:STANDARD
TZOFFSETFROM:+0200
TZOFFSETTO:+0100
TZNAME:CET
DTSTART:20231029T010000
END:STANDARD
BEGIN:DAYLIGHT
TZOFFSETFROM:+0100
TZOFFSETTO:+0200
TZNAME:CEST
DTSTART:20240331T010000
END:DAYLIGHT
BEGIN:STANDARD
TZOFFSETFROM:+0200
TZOFFSETTO:+0100
TZNAME:CET
DTSTART:20241027T010000
END:STANDARD
BEGIN:DAYLIGHT
TZOFFSETFROM:+0100
TZOFFSETTO:+0200
TZNAME:CEST
DTSTART:20250330T010000
END:DAYLIGHT
BEGIN:STANDARD
TZOFFSETFROM:+0200
TZOFFSETTO:+0100
TZNAME:CET
DTSTART:20251026T010000
END:STANDARD
END:VTIMEZONE
BEGIN:VEVENT
DTSTART;TZID=Europe/Berlin:20240626T193000
DTEND;TZID=Europe/Berlin:20240626T213000
DTSTAMP:20260423T001244
CREATED:20240423T132100Z
LAST-MODIFIED:20240423T132100Z
UID:876-1719430200-1719437400@xn--carsten-schtte-qsb.de
SUMMARY:Lesung "EisKALT - Wenn Kinder morden" am 26.06.24 im Schlösschen Bad Nenndorf
DESCRIPTION:Mein neuer Roman „EisKALT – Wenn Kinder morden“ ist eine fiktive Handlung\, in die meine dienstlichen Erfahrungen eingeflossen sind. \nIch beschreibe die Entwicklung eines 13-jährigen Kindes aus einem „normalen“ Elternhaus\, das zum Mörder wird. Niemand hatte ihm das zugetraut. Niemand. \nAus einer facettenreichen\, multiperspektivischen Betrachtung wird eine familiäre und gesellschaftliche Ohnmacht deutlich. \nDie Entwicklung eines Kindes zum Mörder\, die Fassungslosigkeit der Tat an sich\, die Entdeckung\, die Ermittlungen\, der Umgang mit dem Täter\, den Tatbeteiligten\, den Familien von Opfer und Täter\, die Rolle von Polizei\, Justiz\, Schule\, Jugendämter\, Medien\, Politik…. sollen sensibilisieren und appellieren:“Schaut hin\, und zwar früh genug!“ \nIch freue mich\, dieses sensible Thema im Schlösschen Bad Nenndorf vorstellen zu dürfen und auf einen spannenden Abend.
URL:https://xn--carsten-schtte-qsb.de/event/lesung-eiskalt-wenn-kinder-morden-am-26-06-24-im-schloesschen-bad-nenndorf/
LOCATION:Schlösschen Bad Nenndorf\, Kurpark\, Bad Nenndorf\, 31542
ATTACH;FMTTYPE=image/png:https://xn--carsten-schtte-qsb.de/wp-content/uploads/2020/01/Bildschirmfoto-2020-01-05-um-18.50.41.png
END:VEVENT
END:VCALENDAR