BEGIN:VCALENDAR
VERSION:2.0
PRODID:-//Carsten Schütte - ECPv6.15.11//NONSGML v1.0//EN
CALSCALE:GREGORIAN
METHOD:PUBLISH
X-WR-CALNAME:Carsten Schütte
X-ORIGINAL-URL:https://xn--carsten-schtte-qsb.de
X-WR-CALDESC:Veranstaltungen für Carsten Schütte
REFRESH-INTERVAL;VALUE=DURATION:PT1H
X-Robots-Tag:noindex
X-PUBLISHED-TTL:PT1H
BEGIN:VTIMEZONE
TZID:Europe/Berlin
BEGIN:DAYLIGHT
TZOFFSETFROM:+0100
TZOFFSETTO:+0200
TZNAME:CEST
DTSTART:20230326T010000
END:DAYLIGHT
BEGIN:STANDARD
TZOFFSETFROM:+0200
TZOFFSETTO:+0100
TZNAME:CET
DTSTART:20231029T010000
END:STANDARD
BEGIN:DAYLIGHT
TZOFFSETFROM:+0100
TZOFFSETTO:+0200
TZNAME:CEST
DTSTART:20240331T010000
END:DAYLIGHT
BEGIN:STANDARD
TZOFFSETFROM:+0200
TZOFFSETTO:+0100
TZNAME:CET
DTSTART:20241027T010000
END:STANDARD
BEGIN:DAYLIGHT
TZOFFSETFROM:+0100
TZOFFSETTO:+0200
TZNAME:CEST
DTSTART:20250330T010000
END:DAYLIGHT
BEGIN:STANDARD
TZOFFSETFROM:+0200
TZOFFSETTO:+0100
TZNAME:CET
DTSTART:20251026T010000
END:STANDARD
END:VTIMEZONE
BEGIN:VEVENT
DTSTART;TZID=Europe/Berlin:20240323T110000
DTEND;TZID=Europe/Berlin:20240323T113000
DTSTAMP:20260423T045146
CREATED:20240209T132534Z
LAST-MODIFIED:20240209T132534Z
UID:855-1711191600-1711193400@xn--carsten-schtte-qsb.de
SUMMARY:Lesung aus "Eiskalt ..." am Sa.\, 23.03.24 auf der Leipziger Buchmesse
DESCRIPTION:Ich freue mich\, am 23. und 24.03.24 wieder inspirierende Kontakte auf der Leipziger Buchmesse knüpfen zu können.  \nIch werde regelmäßig auf dem Stand des CW Niemeyer Buchverlages in Halle 4 – Stand A104 anzutreffen sein und freue mich auch auf euren Besuch zur Lesung am Sa.\, 23.03.24\, 11:00 Uhr\, im Fachforum & Literatur Halle 5.
URL:https://xn--carsten-schtte-qsb.de/event/lesung-aus-eiskalt-am-sa-23-03-24-auf-der-leipziger-buchmesse/
LOCATION:Leipziger Buchmesse – Fachforum & Literatur Halle 5
ATTACH;FMTTYPE=image/jpeg:https://xn--carsten-schtte-qsb.de/wp-content/uploads/Leipziger-Buchmesse-scaled.jpg
END:VEVENT
END:VCALENDAR