BEGIN:VCALENDAR
VERSION:2.0
PRODID:-//Carsten Schütte - ECPv6.15.11//NONSGML v1.0//EN
CALSCALE:GREGORIAN
METHOD:PUBLISH
X-ORIGINAL-URL:https://xn--carsten-schtte-qsb.de
X-WR-CALDESC:Veranstaltungen für Carsten Schütte
REFRESH-INTERVAL;VALUE=DURATION:PT1H
X-Robots-Tag:noindex
X-PUBLISHED-TTL:PT1H
BEGIN:VTIMEZONE
TZID:Europe/Berlin
BEGIN:DAYLIGHT
TZOFFSETFROM:+0100
TZOFFSETTO:+0200
TZNAME:CEST
DTSTART:20230326T010000
END:DAYLIGHT
BEGIN:STANDARD
TZOFFSETFROM:+0200
TZOFFSETTO:+0100
TZNAME:CET
DTSTART:20231029T010000
END:STANDARD
BEGIN:DAYLIGHT
TZOFFSETFROM:+0100
TZOFFSETTO:+0200
TZNAME:CEST
DTSTART:20240331T010000
END:DAYLIGHT
BEGIN:STANDARD
TZOFFSETFROM:+0200
TZOFFSETTO:+0100
TZNAME:CET
DTSTART:20241027T010000
END:STANDARD
BEGIN:DAYLIGHT
TZOFFSETFROM:+0100
TZOFFSETTO:+0200
TZNAME:CEST
DTSTART:20250330T010000
END:DAYLIGHT
BEGIN:STANDARD
TZOFFSETFROM:+0200
TZOFFSETTO:+0100
TZNAME:CET
DTSTART:20251026T010000
END:STANDARD
END:VTIMEZONE
BEGIN:VEVENT
DTSTART;VALUE=DATE:20240113
DTEND;VALUE=DATE:20240128
DTSTAMP:20260423T080659
CREATED:20231103T114256Z
LAST-MODIFIED:20231103T114256Z
UID:807-1705104000-1706399999@xn--carsten-schtte-qsb.de
SUMMARY:Lesung auf AIDAprima auf der Orienttour vom 13. - 27.01.24
DESCRIPTION:Im Januar geht’s auf AIDAprima nach Dubai\, Abu Dhabi\, Manama\, Sir Bani Yes\, Doha und Muscat
URL:https://xn--carsten-schtte-qsb.de/event/lesung-auf-aidaprima-auf-der-orienttour-vom-13-27-01-24/
LOCATION:AIDAprima auf der Orienttour
ATTACH;FMTTYPE=image/png:https://xn--carsten-schtte-qsb.de/wp-content/uploads/Dubai.png
END:VEVENT
END:VCALENDAR