BEGIN:VCALENDAR
VERSION:2.0
PRODID:-//Carsten Schütte - ECPv6.15.11//NONSGML v1.0//EN
CALSCALE:GREGORIAN
METHOD:PUBLISH
X-WR-CALNAME:Carsten Schütte
X-ORIGINAL-URL:https://xn--carsten-schtte-qsb.de
X-WR-CALDESC:Veranstaltungen für Carsten Schütte
REFRESH-INTERVAL;VALUE=DURATION:PT1H
X-Robots-Tag:noindex
X-PUBLISHED-TTL:PT1H
BEGIN:VTIMEZONE
TZID:Europe/Berlin
BEGIN:DAYLIGHT
TZOFFSETFROM:+0100
TZOFFSETTO:+0200
TZNAME:CEST
DTSTART:20220327T010000
END:DAYLIGHT
BEGIN:STANDARD
TZOFFSETFROM:+0200
TZOFFSETTO:+0100
TZNAME:CET
DTSTART:20221030T010000
END:STANDARD
BEGIN:DAYLIGHT
TZOFFSETFROM:+0100
TZOFFSETTO:+0200
TZNAME:CEST
DTSTART:20230326T010000
END:DAYLIGHT
BEGIN:STANDARD
TZOFFSETFROM:+0200
TZOFFSETTO:+0100
TZNAME:CET
DTSTART:20231029T010000
END:STANDARD
BEGIN:DAYLIGHT
TZOFFSETFROM:+0100
TZOFFSETTO:+0200
TZNAME:CEST
DTSTART:20240331T010000
END:DAYLIGHT
BEGIN:STANDARD
TZOFFSETFROM:+0200
TZOFFSETTO:+0100
TZNAME:CET
DTSTART:20241027T010000
END:STANDARD
END:VTIMEZONE
BEGIN:VEVENT
DTSTART;TZID=Europe/Berlin:20231117T183000
DTEND;TZID=Europe/Berlin:20231117T203000
DTSTAMP:20260425T151727
CREATED:20231103T103251Z
LAST-MODIFIED:20231103T103251Z
UID:797-1700245800-1700253000@xn--carsten-schtte-qsb.de
SUMMARY:Lesung am Fr.\, 17.11.23 im Clubhaus "Zum Waldschlösschen" des Golf Parks am Deister
DESCRIPTION:Am Freitag\, 17.11.23\, 18:30 Uhr\, geht’s auf den Golfplatz. \nHier stelle ich im Clubhaus „Zum Waldschlösschen“ des Golfparks am Deister meine komplette Krimiserie vor und freue mich auf einen spannenden Abend im diesem wunderschönen Ambiente.
URL:https://xn--carsten-schtte-qsb.de/event/lesung-am-fr-17-11-23-im-clubhaus-zum-waldschloesschen-des-golf-parks-am-deister/
LOCATION:Zum Waldschlösschen im Golfclub am Deister\, Am Osterberg 2\, Bad Münder\, 31848
ATTACH;FMTTYPE=image/png:https://xn--carsten-schtte-qsb.de/wp-content/uploads/Bildschirmfoto-2023-11-03-um-11.30.14.png
END:VEVENT
END:VCALENDAR