BEGIN:VCALENDAR
VERSION:2.0
PRODID:-//Carsten Schütte - ECPv6.15.11//NONSGML v1.0//EN
CALSCALE:GREGORIAN
METHOD:PUBLISH
X-ORIGINAL-URL:https://xn--carsten-schtte-qsb.de
X-WR-CALDESC:Veranstaltungen für Carsten Schütte
REFRESH-INTERVAL;VALUE=DURATION:PT1H
X-Robots-Tag:noindex
X-PUBLISHED-TTL:PT1H
BEGIN:VTIMEZONE
TZID:Europe/Berlin
BEGIN:DAYLIGHT
TZOFFSETFROM:+0100
TZOFFSETTO:+0200
TZNAME:CEST
DTSTART:20220327T010000
END:DAYLIGHT
BEGIN:STANDARD
TZOFFSETFROM:+0200
TZOFFSETTO:+0100
TZNAME:CET
DTSTART:20221030T010000
END:STANDARD
BEGIN:DAYLIGHT
TZOFFSETFROM:+0100
TZOFFSETTO:+0200
TZNAME:CEST
DTSTART:20230326T010000
END:DAYLIGHT
BEGIN:STANDARD
TZOFFSETFROM:+0200
TZOFFSETTO:+0100
TZNAME:CET
DTSTART:20231029T010000
END:STANDARD
BEGIN:DAYLIGHT
TZOFFSETFROM:+0100
TZOFFSETTO:+0200
TZNAME:CEST
DTSTART:20240331T010000
END:DAYLIGHT
BEGIN:STANDARD
TZOFFSETFROM:+0200
TZOFFSETTO:+0100
TZNAME:CET
DTSTART:20241027T010000
END:STANDARD
END:VTIMEZONE
BEGIN:VEVENT
DTSTART;TZID=Europe/Berlin:20231115T193000
DTEND;TZID=Europe/Berlin:20231115T213000
DTSTAMP:20260425T152004
CREATED:20231103T112440Z
LAST-MODIFIED:20231103T113527Z
UID:802-1700076600-1700083800@xn--carsten-schtte-qsb.de
SUMMARY:Lesung am Mittwoch\, 15.11.23 in der Stadtbibliothek Dorsten
DESCRIPTION:Schon zum zweiten Mal darf ich am \nMittwoch\, 15.11.23\, 19:30 Uhr\, in der Stadtbibliothek Dorsten \nmeine Krimis vorstellen\, wobei hier der Schwerpunkt auf dem aktuellen Kreuzfahrtkrimi „Kanarenblut“ liegt.\nIch freue mich auf einen spannenden Abend in Dorsten.
URL:https://xn--carsten-schtte-qsb.de/event/lesung-am-mittwoch-15-11-23-in-der-stadtbibliothek-dorsten/
LOCATION:Stadtbiliothek Dorsten\, Im Werth 6\, Dorsten\, 46282
ATTACH;FMTTYPE=image/png:https://xn--carsten-schtte-qsb.de/wp-content/uploads/Bildschirmfoto-2023-11-03-um-12.20.17.png
END:VEVENT
END:VCALENDAR