BEGIN:VCALENDAR
VERSION:2.0
PRODID:-//Carsten Schütte - ECPv6.15.11//NONSGML v1.0//EN
CALSCALE:GREGORIAN
METHOD:PUBLISH
X-WR-CALNAME:Carsten Schütte
X-ORIGINAL-URL:https://xn--carsten-schtte-qsb.de
X-WR-CALDESC:Veranstaltungen für Carsten Schütte
REFRESH-INTERVAL;VALUE=DURATION:PT1H
X-Robots-Tag:noindex
X-PUBLISHED-TTL:PT1H
BEGIN:VTIMEZONE
TZID:Europe/Berlin
BEGIN:DAYLIGHT
TZOFFSETFROM:+0100
TZOFFSETTO:+0200
TZNAME:CEST
DTSTART:20220327T010000
END:DAYLIGHT
BEGIN:STANDARD
TZOFFSETFROM:+0200
TZOFFSETTO:+0100
TZNAME:CET
DTSTART:20221030T010000
END:STANDARD
BEGIN:DAYLIGHT
TZOFFSETFROM:+0100
TZOFFSETTO:+0200
TZNAME:CEST
DTSTART:20230326T010000
END:DAYLIGHT
BEGIN:STANDARD
TZOFFSETFROM:+0200
TZOFFSETTO:+0100
TZNAME:CET
DTSTART:20231029T010000
END:STANDARD
BEGIN:DAYLIGHT
TZOFFSETFROM:+0100
TZOFFSETTO:+0200
TZNAME:CEST
DTSTART:20240331T010000
END:DAYLIGHT
BEGIN:STANDARD
TZOFFSETFROM:+0200
TZOFFSETTO:+0100
TZNAME:CET
DTSTART:20241027T010000
END:STANDARD
END:VTIMEZONE
BEGIN:VEVENT
DTSTART;TZID=Europe/Berlin:20231109T193000
DTEND;TZID=Europe/Berlin:20231109T213000
DTSTAMP:20260425T151841
CREATED:20231103T101611Z
LAST-MODIFIED:20231103T101611Z
UID:795-1699558200-1699565400@xn--carsten-schtte-qsb.de
SUMMARY:Lesung im Upstalsboom in Kühlungsborn am Fr.\, 09.11.23
DESCRIPTION:Es ist wieder soweit – Kübo ruft!!\nAm Freitag\, 09.11.23\, 19:30 Uhr\, darf ich im Wiener Café Arendsee des Upstalsboom Kühlungsborn u.a. meinen aktuellen Kreuzfahrtkrimi vorstellen und freue mich auf einen anschließenden regen Austausch.\n 
URL:https://xn--carsten-schtte-qsb.de/event/lesung-im-upstalsboom-in-kuehlungsborn-am-fr-09-11-23/
LOCATION:Upstalsboom Hotelresidenz Kühlungsborn\, Ostseeallee 21\, Kühlungsborn\, 18225\, Deutschland
ATTACH;FMTTYPE=image/png:https://xn--carsten-schtte-qsb.de/wp-content/uploads/2020/01/Bildschirmfoto-2020-01-19-um-20.51.48.png
END:VEVENT
END:VCALENDAR