BEGIN:VCALENDAR
VERSION:2.0
PRODID:-//Carsten Schütte - ECPv6.15.11//NONSGML v1.0//EN
CALSCALE:GREGORIAN
METHOD:PUBLISH
X-WR-CALNAME:Carsten Schütte
X-ORIGINAL-URL:https://xn--carsten-schtte-qsb.de
X-WR-CALDESC:Veranstaltungen für Carsten Schütte
REFRESH-INTERVAL;VALUE=DURATION:PT1H
X-Robots-Tag:noindex
X-PUBLISHED-TTL:PT1H
BEGIN:VTIMEZONE
TZID:Europe/Berlin
BEGIN:DAYLIGHT
TZOFFSETFROM:+0100
TZOFFSETTO:+0200
TZNAME:CEST
DTSTART:20220327T010000
END:DAYLIGHT
BEGIN:STANDARD
TZOFFSETFROM:+0200
TZOFFSETTO:+0100
TZNAME:CET
DTSTART:20221030T010000
END:STANDARD
BEGIN:DAYLIGHT
TZOFFSETFROM:+0100
TZOFFSETTO:+0200
TZNAME:CEST
DTSTART:20230326T010000
END:DAYLIGHT
BEGIN:STANDARD
TZOFFSETFROM:+0200
TZOFFSETTO:+0100
TZNAME:CET
DTSTART:20231029T010000
END:STANDARD
BEGIN:DAYLIGHT
TZOFFSETFROM:+0100
TZOFFSETTO:+0200
TZNAME:CEST
DTSTART:20240331T010000
END:DAYLIGHT
BEGIN:STANDARD
TZOFFSETFROM:+0200
TZOFFSETTO:+0100
TZNAME:CET
DTSTART:20241027T010000
END:STANDARD
END:VTIMEZONE
BEGIN:VEVENT
DTSTART;TZID=Europe/Berlin:20230607T183000
DTEND;TZID=Europe/Berlin:20230607T203000
DTSTAMP:20260425T235737
CREATED:20230523T132330Z
LAST-MODIFIED:20230523T132330Z
UID:518-1686162600-1686169800@xn--carsten-schtte-qsb.de
SUMMARY:Krimilesung am 07.06.2023 im Lufthansa City Center Reisebüro Bissendorf
DESCRIPTION:Ich freue mich auf einen spannenden Abend am Mi.\, 07.06.2023\, 18:30 Uhr\, im Lufthansa City Center Reisebüro Bissendorf. \nNeben der Entwicklung von Profiler zum Krimi- und AIDA-Krimi-Autor werde ich darauf eingehen\, wie ein AIDA-Krimi überhaupt entsteht. Welche Recherchen sind erforderlich und wie werden die Lesungen und Vorträge auf den AIDA-Schiffen strukturiert? \nNatürlich stelle ich euch in Auszügen die AIDA-Krimis vor. \n 
URL:https://xn--carsten-schtte-qsb.de/event/krimilesung-am-07-06-2023-im-lufthansa-city-center-reisebuero-bissendorf/
LOCATION:Lufthansa City Center Reisebüro Bissendorf\, Am Markt 12\, SWedemark\, 30900
ATTACH;FMTTYPE=image/png:https://xn--carsten-schtte-qsb.de/wp-content/uploads/2023/05/Bildschirmfoto-2023-05-23-um-15.21.39.png
END:VEVENT
END:VCALENDAR