BEGIN:VCALENDAR
VERSION:2.0
PRODID:-//Carsten Schütte - ECPv6.15.11//NONSGML v1.0//EN
CALSCALE:GREGORIAN
METHOD:PUBLISH
X-ORIGINAL-URL:https://xn--carsten-schtte-qsb.de
X-WR-CALDESC:Veranstaltungen für Carsten Schütte
REFRESH-INTERVAL;VALUE=DURATION:PT1H
X-Robots-Tag:noindex
X-PUBLISHED-TTL:PT1H
BEGIN:VTIMEZONE
TZID:Europe/Berlin
BEGIN:DAYLIGHT
TZOFFSETFROM:+0100
TZOFFSETTO:+0200
TZNAME:CEST
DTSTART:20220327T010000
END:DAYLIGHT
BEGIN:STANDARD
TZOFFSETFROM:+0200
TZOFFSETTO:+0100
TZNAME:CET
DTSTART:20221030T010000
END:STANDARD
BEGIN:DAYLIGHT
TZOFFSETFROM:+0100
TZOFFSETTO:+0200
TZNAME:CEST
DTSTART:20230326T010000
END:DAYLIGHT
BEGIN:STANDARD
TZOFFSETFROM:+0200
TZOFFSETTO:+0100
TZNAME:CET
DTSTART:20231029T010000
END:STANDARD
BEGIN:DAYLIGHT
TZOFFSETFROM:+0100
TZOFFSETTO:+0200
TZNAME:CEST
DTSTART:20240331T010000
END:DAYLIGHT
BEGIN:STANDARD
TZOFFSETFROM:+0200
TZOFFSETTO:+0100
TZNAME:CET
DTSTART:20241027T010000
END:STANDARD
END:VTIMEZONE
BEGIN:VEVENT
DTSTART;TZID=Europe/Berlin:20230603T200000
DTEND;TZID=Europe/Berlin:20230603T220000
DTSTAMP:20260426T000012
CREATED:20230523T132727Z
LAST-MODIFIED:20230523T132727Z
UID:513-1685822400-1685829600@xn--carsten-schtte-qsb.de
SUMMARY:Duolesung "Krimi Hoch 2" mit Ulrich Behmann am 03.06.2023 in Hagen
DESCRIPTION:Ich freue mich auf eine gemeinsame Lesung mit Ulrich Behmann am Sa.\, 03.06.2023\, 20:00 Uhr\, im Kulturzentrum Hasper Hammer in Hagen. \nUlrich Behmann ist als Chefreporter der DEWEZET nicht nur journalistisch am Puls der Zeit\, sondern erhält über seinen Vorsitz der Interhelp – Deutsche Gesellschaft für internationale Hilfe e.V. weltweit persönliche Einblicke in oft prekären Situationen in Krisen- und auch Kriegsgebieten. Diese Erfahrungen bringt er in seine teils fiktiven\, aber auch dokumentarischen Romane derart authentisch mit ein\, dass einem der Atem stockt. \nDiese beiden Perspektiven versprechen einen spannenden Abend\, auf den ich mich sehr freue.
URL:https://xn--carsten-schtte-qsb.de/event/duolesung-krimi-hoch-2-mit-ulrich-behmann-am-03-06-2023-in-hagen/
LOCATION:Kulturzentrum Hasper Hammer\, Hammerstraße 10\, Hagen\, 58135\, Deutschland
ATTACH;FMTTYPE=image/png:https://xn--carsten-schtte-qsb.de/wp-content/uploads/2023/05/Bildschirmfoto-2023-05-23-um-15.02.56.png
END:VEVENT
END:VCALENDAR