BEGIN:VCALENDAR
VERSION:2.0
PRODID:-//Carsten Schütte - ECPv6.15.11//NONSGML v1.0//EN
CALSCALE:GREGORIAN
METHOD:PUBLISH
X-ORIGINAL-URL:https://xn--carsten-schtte-qsb.de
X-WR-CALDESC:Veranstaltungen für Carsten Schütte
REFRESH-INTERVAL;VALUE=DURATION:PT1H
X-Robots-Tag:noindex
X-PUBLISHED-TTL:PT1H
BEGIN:VTIMEZONE
TZID:Europe/Berlin
BEGIN:DAYLIGHT
TZOFFSETFROM:+0100
TZOFFSETTO:+0200
TZNAME:CEST
DTSTART:20220327T010000
END:DAYLIGHT
BEGIN:STANDARD
TZOFFSETFROM:+0200
TZOFFSETTO:+0100
TZNAME:CET
DTSTART:20221030T010000
END:STANDARD
BEGIN:DAYLIGHT
TZOFFSETFROM:+0100
TZOFFSETTO:+0200
TZNAME:CEST
DTSTART:20230326T010000
END:DAYLIGHT
BEGIN:STANDARD
TZOFFSETFROM:+0200
TZOFFSETTO:+0100
TZNAME:CET
DTSTART:20231029T010000
END:STANDARD
BEGIN:DAYLIGHT
TZOFFSETFROM:+0100
TZOFFSETTO:+0200
TZNAME:CEST
DTSTART:20240331T010000
END:DAYLIGHT
BEGIN:STANDARD
TZOFFSETFROM:+0200
TZOFFSETTO:+0100
TZNAME:CET
DTSTART:20241027T010000
END:STANDARD
END:VTIMEZONE
BEGIN:VEVENT
DTSTART;TZID=Europe/Berlin:20230412T200000
DTEND;TZID=Europe/Berlin:20230412T220000
DTSTAMP:20260426T031818
CREATED:20230213T203644Z
LAST-MODIFIED:20230213T203644Z
UID:483-1681329600-1681336800@xn--carsten-schtte-qsb.de
SUMMARY:Lesung Profiler- und AIDA-Krimis im Amtshof Burgwedel am 12.04.23
DESCRIPTION:Eine Lesung in der Nachbarschaft ist stets etwas Besonderes. \nAuf Einladung der Bücherei Burgwedel freue ich mich auf einen spannenden Abend im Amtshof. \nNeben einer Einführung in das Portfolio der Operativen Fallanalyse (OFA)\, stelle ich Ihnen meine Profiler- und Kreuzfahrtkrimis vor\, die alle einen Bezug in die Region Hannover ausweisen. \nZudem darf ich Ihnen meinen neuen AIDA-Krimi „Kanarenblut“ vorstellen. Hier findet auf der Kanarentour eine sog. Crime Cruise auf einem Kreuzfahrtschiff statt\, auf der nicht nur hochkarätige Referenten\, sondern sich auch ein Mörder unter den Teilnehmern befindet. \nEin Wettlauf mit der Zeit beginnt …
URL:https://xn--carsten-schtte-qsb.de/event/lesung-profiler-und-aida-krimis-im-amtshof-burgwedel-am-12-04-23/
LOCATION:Amtshof Burgwedel\, Auf dem Amtshof 8\, Burgwedel\, 30938
ATTACH;FMTTYPE=image/jpeg:https://xn--carsten-schtte-qsb.de/wp-content/uploads/2023/02/Flyer_2023-scaled.jpg
END:VEVENT
END:VCALENDAR