BEGIN:VCALENDAR
VERSION:2.0
PRODID:-//Carsten Schütte - ECPv6.15.11//NONSGML v1.0//EN
CALSCALE:GREGORIAN
METHOD:PUBLISH
X-WR-CALNAME:Carsten Schütte
X-ORIGINAL-URL:https://xn--carsten-schtte-qsb.de
X-WR-CALDESC:Veranstaltungen für Carsten Schütte
REFRESH-INTERVAL;VALUE=DURATION:PT1H
X-Robots-Tag:noindex
X-PUBLISHED-TTL:PT1H
BEGIN:VTIMEZONE
TZID:Europe/Berlin
BEGIN:DAYLIGHT
TZOFFSETFROM:+0100
TZOFFSETTO:+0200
TZNAME:CEST
DTSTART:20220327T010000
END:DAYLIGHT
BEGIN:STANDARD
TZOFFSETFROM:+0200
TZOFFSETTO:+0100
TZNAME:CET
DTSTART:20221030T010000
END:STANDARD
BEGIN:DAYLIGHT
TZOFFSETFROM:+0100
TZOFFSETTO:+0200
TZNAME:CEST
DTSTART:20230326T010000
END:DAYLIGHT
BEGIN:STANDARD
TZOFFSETFROM:+0200
TZOFFSETTO:+0100
TZNAME:CET
DTSTART:20231029T010000
END:STANDARD
BEGIN:DAYLIGHT
TZOFFSETFROM:+0100
TZOFFSETTO:+0200
TZNAME:CEST
DTSTART:20240331T010000
END:DAYLIGHT
BEGIN:STANDARD
TZOFFSETFROM:+0200
TZOFFSETTO:+0100
TZNAME:CET
DTSTART:20241027T010000
END:STANDARD
END:VTIMEZONE
BEGIN:VEVENT
DTSTART;TZID=Europe/Berlin:20230302T190000
DTEND;TZID=Europe/Berlin:20230302T210000
DTSTAMP:20260426T043955
CREATED:20230301T131038Z
LAST-MODIFIED:20230301T131038Z
UID:496-1677783600-1677790800@xn--carsten-schtte-qsb.de
SUMMARY:Der Magier Cody Stone und eine Profiler auf einer Bühne am Do.\, 02.03.23\, auf der Hinterbühne in Hannover
DESCRIPTION:Wenn sich zwei Hannoveraner auf der AIDAblu während der Adriatour treffen\, können nur neue Projekte daraus wachsen. \nCody Stone verzauberte als Magier die Passagiere im Theatrium\, während ich nach seiner Show die Krimifans auf die Tatorte dieser Tour aus dem Buch „Opferbucht“ einstimmen durfte. \nAls wir abends bei einer Brause in der Bar saßen\, philosophierten wir über gemeinsame Projekte. \nKann ein Magier bei Mordermittlungen oder gar einer Täterprofilerstellung unterstützen? Kann ein Profiler eine Zaubershow bereichern? \nDas Ergebnis präsentieren wir am Do.\, 02.03.23\, 19:00 Uhr\, auf der Hinterbühne in Hannover. \nNach einem „Mord“ im Bühnenbereich unterhalten wir euch mit einem Mix aus „ermittlungsbegleitenden Tricks“ und Erklärungen\, wie ein Tatort überhaupt durch wen begutachtet wird. Welche Ermittlungen laufen an\, warum erscheinen neben den Mordermittlern und Kriminalforensikern die „Profiler“ und welche Aufgabe haben sie. \nZum Abschluss können wir beurteilen\, ob und in welcher Form der Magier Cody Stone die Ermittlungen unterstützen kann. \nSchaut vorbei und lasst euch auf einem humorvollen Abend einfach verzaubern. \nWir freuen uns auf euch! \n 
URL:https://xn--carsten-schtte-qsb.de/event/der-magier-cody-stone-und-eine-profiler-auf-einer-buehne-am-do-02-03-23-auf-der-hinterbuehne-in-hannover/
LOCATION:Die Hinterbühne\, Hildesheimer Straße 39a\, Hannover\, 30169
ATTACH;FMTTYPE=image/png:https://xn--carsten-schtte-qsb.de/wp-content/uploads/2023/03/2.png
END:VEVENT
END:VCALENDAR